BEGIN:VCALENDAR
VERSION:2.0
PRODID:-//Gartenkönig - ECPv6.8.3//NONSGML v1.0//EN
CALSCALE:GREGORIAN
METHOD:PUBLISH
X-WR-CALNAME:Gartenkönig
X-ORIGINAL-URL:https://gartenkoenig.com
X-WR-CALDESC:Veranstaltungen für Gartenkönig
REFRESH-INTERVAL;VALUE=DURATION:PT1H
X-Robots-Tag:noindex
X-PUBLISHED-TTL:PT1H
BEGIN:VTIMEZONE
TZID:Europe/Berlin
BEGIN:DAYLIGHT
TZOFFSETFROM:+0100
TZOFFSETTO:+0200
TZNAME:CEST
DTSTART:20240331T010000
END:DAYLIGHT
BEGIN:STANDARD
TZOFFSETFROM:+0200
TZOFFSETTO:+0100
TZNAME:CET
DTSTART:20241027T010000
END:STANDARD
END:VTIMEZONE
BEGIN:VEVENT
DTSTART;VALUE=DATE:20240928
DTEND;VALUE=DATE:20240930
DTSTAMP:20260421T174031
CREATED:20190930T074743Z
LAST-MODIFIED:20240306T150709Z
UID:3740-1727481600-1727654399@gartenkoenig.com
SUMMARY:Herbst "AntikMarkt" Burg & Park Ohrdruf
DESCRIPTION:Infos im ÜberblickAntikMarkt\nBurg & Park Ohrdruf\nTreten Sie ein in eine Welt vergangener Epochen\, in der Geschichte und Ästhetik aufeinandertreffen. Unsere sorgfältig ausgewählten Antikhändler präsentieren eine faszinierende Vielfalt an antiken Möbeln\, Kunstwerken\, Schmuck und Kuriositäten. Tauchen Sie ein in die Vergangenheit und entdecken Sie einzigartige Stücke\, die Geschichten erzählen. \nAls besonderes Highlight bietet Walther Lehnertz\, besser bekannt als „Waldi“ aus Bares für Rares\, seine Expertenschätzung an. Bringen Sie Ihre Fundstücke mit und erfahren Sie mehr über ihre Geschichte und ihren Wert. \nDiese Veranstaltung ist eine wahre Fundgrube für Schnäppchenjäger\, Schatzsucher\, Vintage-Liebhaber und Raritätensammler. Egal\, ob Sie auf der Suche nach einem besonderen Schmuckstück\, einem antiken Möbelstück oder einem einzigartigen Kunstwerk sind – hier werden Sie fündig. \nFür das leibliche Wohl ist bestens gesorgt\, damit Sie Ihren Besuch auf dem „AntikMarkt“ in vollen Zügen genießen können. Ob Sie als Aufkäufer\, Ankäufer\, Käufer oder einfach als Schlenderer vorbeikommen – wir laden Sie herzlich ein\, diese besondere Atmosphäre auf Burg Ohrdruf zu erleben und freuen uns darauf\, gemeinsam mit Ihnen in die Welt der Antiquitäten einzutauchen! \nWenn Sie gerne selbst als Antik- oder Trödelhändler Teil des „AntikMarkt“ sein möchten\, können Sie sich Telefonisch unter 03681/452980 oder per E-Mail anmelden. \nAls Händler anmeldenÖffnungszeiten\nSamstag & Sonntag:\n9 bis 17 Uhr \nAb 16 Uhr kein Einlass mehr möglich. \nEintritt\n5 Euro\npro Person \nFreier Eintritt für Kinder unter 16 Jahren in Begleitung \nService\nHunde angeleint erlaubt \nParken\nausgeschilderte Besucherparkplätze vor Ort \nStand: 09.01.2024\nÄnderungen vorbehalten!
URL:https://gartenkoenig.com/event/antikmarkt-burg-park-ohrdruf/
LOCATION:Burg & Park Ohrdruf\, Gothaer Str. 30\, Ohrdruf\, Thüringen\, 99885
ATTACH;FMTTYPE=image/jpeg:https://gartenkoenig.com/wp-content/uploads/2019/09/Banner_AntikMarkt_Waldi_335x175_Sept_2024.jpg
END:VEVENT
END:VCALENDAR