BEGIN:VCALENDAR
VERSION:2.0
PRODID:-//Gartenkönig - ECPv6.8.3//NONSGML v1.0//EN
CALSCALE:GREGORIAN
METHOD:PUBLISH
X-ORIGINAL-URL:https://gartenkoenig.com
X-WR-CALDESC:Veranstaltungen für Gartenkönig
REFRESH-INTERVAL;VALUE=DURATION:PT1H
X-Robots-Tag:noindex
X-PUBLISHED-TTL:PT1H
BEGIN:VTIMEZONE
TZID:Europe/Berlin
BEGIN:DAYLIGHT
TZOFFSETFROM:+0100
TZOFFSETTO:+0200
TZNAME:CEST
DTSTART:20240331T010000
END:DAYLIGHT
BEGIN:STANDARD
TZOFFSETFROM:+0200
TZOFFSETTO:+0100
TZNAME:CET
DTSTART:20241027T010000
END:STANDARD
END:VTIMEZONE
BEGIN:VEVENT
DTSTART;VALUE=DATE:20241206
DTEND;VALUE=DATE:20241209
DTSTAMP:20260421T220847
CREATED:20201102T164846Z
LAST-MODIFIED:20241126T124358Z
UID:6621-1733443200-1733702399@gartenkoenig.com
SUMMARY:Advent Markt der Sinne Kloster Veßra
DESCRIPTION:Infos im ÜberblickAdvent Markt der Sinne\nKloster Veßra\nErleben Sie eine festliche Veranstaltung mit Ausstellern im Freilichtmuseum und den Innenräumen des Museums Kloster Veßra. Entdecken Sie eine Vielzahl von kunstvollen Handarbeiten\, festlichen Dekorationen\, kostbarer Töpfereiarbeit\, stilvoller Mode & Accessoires und kulinarischen Köstlichkeiten. \nSchlendern Sie durch die malerischen Freilichtanlagen und erleben Sie die besondere Atmosphäre des Museums Kloster Veßra\, während Sie von den sorgfältig ausgewählten Ausstellern inspiriert werden. Von einzigartigen Geschenkideen bis zu festlicher Dekoration – hier finden Sie alles\, um die Vorfreude auf die festliche Jahreszeit zu steigern. \nFür Ihr leibliches Wohl ist bestens gesorgt. Genießen Sie kulinarische Köstlichkeiten und erleben Sie die vorweihnachtliche Stimmung auf dem Adventsmarkt der Sinne im Hennebergischen Museum Kloster Veßra. \nTauchen Sie ein in eine Welt des Genusses\, der Gemütlichkeit und der festlichen Vorfreude. \nProgrammTicket-ShopPressemitteilungÖffnungszeiten\nFreitag: 16 bis 21 Uhr\nSamstag: 13 bis 22 Uhr\nSonntag: 11 bis 19 Uhr \nEinlass bis jeweils 1 Std. vor Ausstellungsende \nWegezoll\nFreitag: 5 Euro\npro Person \nSamstag & Sonntag: je 8 Euro\npro Person \nWochenendticket: 10 Euro\npro Person \nFreier Eintritt für Kinder unter 16 Jahren in Begleitung\nDer Museumseintritt ist am Samstag und Sonntag im Wegezoll enthalten.\n \nService\nBargeld-Service (EC-Lastschrift) \nHunde angeleint erlaubt \nParken\nAusgeschilderte Besucherparkplätze vor Ort.\nParkgebühren sind im Eintritt enthalten. \nStand: 09.01.2024\nÄnderungen vorbehalten!
URL:https://gartenkoenig.com/event/aventsmarkt_kloster_vessra/
LOCATION:Kloster Veßra\, Anger 35\, Kloster Veßra\, Thüringen\, 98660\, Deutschland
ATTACH;FMTTYPE=image/jpeg:https://gartenkoenig.com/wp-content/uploads/2020/11/Banner_Advent_Vessra_335x175_2024.jpg
END:VEVENT
END:VCALENDAR