BEGIN:VCALENDAR
VERSION:2.0
PRODID:-//Gartenkönig - ECPv6.8.3//NONSGML v1.0//EN
CALSCALE:GREGORIAN
METHOD:PUBLISH
X-WR-CALNAME:Gartenkönig
X-ORIGINAL-URL:https://gartenkoenig.com
X-WR-CALDESC:Veranstaltungen für Gartenkönig
REFRESH-INTERVAL;VALUE=DURATION:PT1H
X-Robots-Tag:noindex
X-PUBLISHED-TTL:PT1H
BEGIN:VTIMEZONE
TZID:Europe/Berlin
BEGIN:DAYLIGHT
TZOFFSETFROM:+0100
TZOFFSETTO:+0200
TZNAME:CEST
DTSTART:20260329T010000
END:DAYLIGHT
BEGIN:STANDARD
TZOFFSETFROM:+0200
TZOFFSETTO:+0100
TZNAME:CET
DTSTART:20261025T010000
END:STANDARD
END:VTIMEZONE
BEGIN:VEVENT
DTSTART;VALUE=DATE:20260329
DTEND;VALUE=DATE:20260330
DTSTAMP:20260421T154341
CREATED:20260127T134842Z
LAST-MODIFIED:20260130T141512Z
UID:11372-1774742400-1774828799@gartenkoenig.com
SUMMARY:Rhöner Ostermarkt Kaltennordheim
DESCRIPTION:Rhöner Ostermarkt Kaltennordheim\nInnenstadt Kaltennordheim\nDer Frühling hält Einzug in Kaltennordheim – und damit auch der Rhöner Ostermarkt 2026. Am Sonntag\, den 29. März\, lädt die Stadt von 10 bis 18 Uhr zu einem bunten Frühlingsfest für die ganze Familie ein. Zahlreiche Händler und regionale Anbieter präsentieren ein vielfältiges Angebot rund um Ostern\, Kunsthandwerk sowie Haus und Garten. Kulinarische Spezialitäten von süß bis deftig\, ein abwechslungsreiches Kinderprogramm mit Hüpfburg\, Karussell und Kinderschminken sowie der Besuch des Osterhasen sorgen für beste Unterhaltung. Begleitet wird der Markt von Musik\, offenen Geschäften in der Innenstadt und weiteren Attraktionen. Ein Fest zum Flanieren\, Genießen und Zusammenkommen. \nÖffnungszeiten\n10:00 bis 18:00 Uhr \nEintritt\nEintritt frei \nStand: 13.01.2026\nÄnderungen vorbehalten!
URL:https://gartenkoenig.com/event/rhoener-ostermarkt-kaltennordheim/
LOCATION:Kaltennordheim\, Wilhelm-Külz-Platz 2\, Kaltennordheim\, Thüringen\, 36452
CATEGORIES:Märkte
ATTACH;FMTTYPE=image/jpeg:https://gartenkoenig.com/wp-content/uploads/2026/01/Banner_Ostern_Kaltennordheim_335_175_2026.jpg
END:VEVENT
END:VCALENDAR