BEGIN:VCALENDAR
VERSION:2.0
PRODID:-//Gartenkönig - ECPv6.8.3//NONSGML v1.0//EN
CALSCALE:GREGORIAN
METHOD:PUBLISH
X-ORIGINAL-URL:https://gartenkoenig.com
X-WR-CALDESC:Veranstaltungen für Gartenkönig
REFRESH-INTERVAL;VALUE=DURATION:PT1H
X-Robots-Tag:noindex
X-PUBLISHED-TTL:PT1H
BEGIN:VTIMEZONE
TZID:Europe/Berlin
BEGIN:DAYLIGHT
TZOFFSETFROM:+0100
TZOFFSETTO:+0200
TZNAME:CEST
DTSTART:20260329T010000
END:DAYLIGHT
BEGIN:STANDARD
TZOFFSETFROM:+0200
TZOFFSETTO:+0100
TZNAME:CET
DTSTART:20261025T010000
END:STANDARD
END:VTIMEZONE
BEGIN:VEVENT
DTSTART;VALUE=DATE:20260404
DTEND;VALUE=DATE:20260407
DTSTAMP:20260421T141632
CREATED:20201102T174440Z
LAST-MODIFIED:20260325T152252Z
UID:6624-1775260800-1775519999@gartenkoenig.com
SUMMARY:"Ostern auf Burg Ohrdruf" Burg & Park Ohrdruf
DESCRIPTION:Infos im ÜberblickOstern auf Burg Ohrdruf\nFrühlingsmarkt Burg & Park Ohrdruf\nTauchen Sie ein in die frühlingshafte Atmosphäre auf der idyllischen Burg & Park Ohrdruf und entdecken Sie alles\, was Ihr Zuhause schöner macht. Unsere vielfältigen Händler präsentieren eine breite Palette an Produkten rund um Haus\, Hof\, Garten\, Balkon und Terrasse. Von saisonalen Pflanzen und Gartengeräten bis hin zu stilvollen Dekorationen – hier finden Sie alles\, um Ihr Heim in ein grünes Paradies zu verwandeln. \nNeben den Gartenhighlights erwarten Sie auch Anbieter mit Mode\, Accessoires und Dekorationen\, um Ihrem persönlichen Stil den letzten Schliff zu verleihen. Stöbern Sie durch einzigartige Kreationen und lassen Sie sich inspirieren. \nFür das leibliche Wohl ist bestens gesorgt: Genießen Sie kulinarische Köstlichkeiten und erfrischende Getränke in entspannter Burgatmosphäre. \nErleben Sie einen unvergesslichen Frühlingstag auf Burg & Park Ohrdruf und lassen Sie sich von der Vielfalt unserer Aussteller begeistern. \nProgrammPressemitteilungTicket-ShopÖffnungszeiten\nSamstag bis Montag\n10 bis 18 Uhr \nAb 17 Uhr kein Einlass mehr möglich. \nEintritt\n10 Euro\npro Person \n8 Euro\nermäßigt (Schüler\, Studenten und Schwerbeschädigte mit entsprechendem Nachweis) \n20 Euro\nDauerkarte (nur im Ticket-Shop erhältlich) \nFreier Eintritt für Kinder unter 16 Jahren in Begleitung \nbargeldlose Bezahlung möglich \nService\nBargeld-Service (EC-Lastschrift) \nKostenloser Depotservice\nzur Aufbewahrung gekaufter Waren \nHunde angeleint erlaubt \nParken\nausgeschilderte kostenfreie Besucherparkplätze vor Ort \nStand: 13.01.2026\nÄnderungen vorbehalten!
URL:https://gartenkoenig.com/event/oster-gartenmarkt-burg-park-ohrdruf/
LOCATION:Burg & Park Ohrdruf\, Gothaer Str. 30\, Ohrdruf\, Thüringen\, 99885
ATTACH;FMTTYPE=image/jpeg:https://gartenkoenig.com/wp-content/uploads/2020/11/Banner_Ostern_Ohrdruf_335_175_2026.jpg
END:VEVENT
END:VCALENDAR