BEGIN:VCALENDAR
VERSION:2.0
PRODID:-//Gartenkönig - ECPv6.8.3//NONSGML v1.0//EN
CALSCALE:GREGORIAN
METHOD:PUBLISH
X-ORIGINAL-URL:https://gartenkoenig.com
X-WR-CALDESC:Veranstaltungen für Gartenkönig
REFRESH-INTERVAL;VALUE=DURATION:PT1H
X-Robots-Tag:noindex
X-PUBLISHED-TTL:PT1H
BEGIN:VTIMEZONE
TZID:Europe/Berlin
BEGIN:DAYLIGHT
TZOFFSETFROM:+0100
TZOFFSETTO:+0200
TZNAME:CEST
DTSTART:20260329T010000
END:DAYLIGHT
BEGIN:STANDARD
TZOFFSETFROM:+0200
TZOFFSETTO:+0100
TZNAME:CET
DTSTART:20261025T010000
END:STANDARD
END:VTIMEZONE
BEGIN:VEVENT
DTSTART;VALUE=DATE:20260612
DTEND;VALUE=DATE:20260615
DTSTAMP:20260421T172115
CREATED:20250108T093111Z
LAST-MODIFIED:20260121T102248Z
UID:10858-1781222400-1781481599@gartenkoenig.com
SUMMARY:Schloss & Garten Tage Schloss Ponitz
DESCRIPTION:Infos im ÜberblickSchloss & Garten Tage\nSchloss Ponitz\nErleben Sie eine inspirierende Veranstaltung mit Ausstellern im historischen Schlossgelände. Freuen Sie sich auf eine vielfältige Auswahl an Händlern mit Pflanzen\, stilvollen Dekorationen\, Mode\, Accessoires und kulinarischen Köstlichkeiten. \nSchlendern Sie durch die malerische Kulisse des Schlosses und lassen Sie sich von kreativen Ideen und hochwertigen Produkten für Haus und Garten verzaubern. \nFür Ihr leibliches Wohl ist bestens gesorgt. Genießen Sie die besondere Atmosphäre der Haus & Garten Tage auf Schloss Ponitz und feiern Sie mit uns die Premiere dieses einzigartigen Events! \nTicket-ShopÖffnungszeiten\nFreitag bis Sonntag\n10 bis 18 Uhr \nAb 17 Uhr kein Einlass mehr möglich. \nEintritt\n8 Euro\npro Person \n6 Euro\nermäßigt (Schüler\, Studenten und Schwerbeschädigte mit entsprechendem Nachweis) \n15 Euro\nDauerkarte (nur im Ticket-Shop erhältlich) \nFreier Eintritt für Kinder unter 16 Jahren in Begleitung \nbargeldlose Bezahlung möglich \nService\nBargeld-Service (EC-Lastschrift) \nKostenloser Depotservice\nzur Aufbewahrung gekaufter Waren \nHunde angeleint erlaubt \nParken\nausgeschilderte Besucherparkplätze vor Ort\n(Parkgebühren sind im Eintrittspreis enthalten) \nStand: 13.01.2026\nÄnderungen vorbehalten!
URL:https://gartenkoenig.com/event/schloss-garten-tage-schloss-ponitz/
LOCATION:Schloss Ponitz\, Schlosshof 1\, Ponitz\, Thüringen\, 04639\, Germany
ATTACH;FMTTYPE=image/jpeg:https://gartenkoenig.com/wp-content/uploads/2020/11/Banner_HGT_Ponitz_340x173cm_2026.jpg
END:VEVENT
END:VCALENDAR