BEGIN:VCALENDAR
VERSION:2.0
PRODID:-//Gartenkönig - ECPv6.8.3//NONSGML v1.0//EN
CALSCALE:GREGORIAN
METHOD:PUBLISH
X-WR-CALNAME:Gartenkönig
X-ORIGINAL-URL:https://gartenkoenig.com
X-WR-CALDESC:Veranstaltungen für Gartenkönig
REFRESH-INTERVAL;VALUE=DURATION:PT1H
X-Robots-Tag:noindex
X-PUBLISHED-TTL:PT1H
BEGIN:VTIMEZONE
TZID:Europe/Berlin
BEGIN:DAYLIGHT
TZOFFSETFROM:+0100
TZOFFSETTO:+0200
TZNAME:CEST
DTSTART:20260329T010000
END:DAYLIGHT
BEGIN:STANDARD
TZOFFSETFROM:+0200
TZOFFSETTO:+0100
TZNAME:CET
DTSTART:20261025T010000
END:STANDARD
END:VTIMEZONE
BEGIN:VEVENT
DTSTART;VALUE=DATE:20260703
DTEND;VALUE=DATE:20260706
DTSTAMP:20260421T171823
CREATED:20240208T150550Z
LAST-MODIFIED:20260227T130638Z
UID:10323-1783036800-1783295999@gartenkoenig.com
SUMMARY:Schloss- & Gartenmarkt Schloss Neuenburg bei Freyburg
DESCRIPTION:Infos im ÜberblickSchloss & Garten Markt\nSchloss Neuenburg\nErleben Sie ein exklusives Event mit Ausstellern im malerischen Schlosshof und den geschichtsträchtigen Innenräumen des Schlosses Neuenburg. Tauchen Sie ein in die Welt des Gartenmarkts und entdecken Sie eine Vielfalt von Händlern mit Pflanzen\, kunstvollen Dekorationen\, stilvoller Mode\, trendigen Accessoires und kulinarischen Köstlichkeiten. \nSchlendern Sie durch den eleganten Schlosshof und erkunden Sie die geschmackvoll gestalteten Innenräume\, während Sie von den sorgfältig ausgewählten Ausstellern inspiriert werden. Von prachtvollen Pflanzen bis zu einzigartigen Handwerkskunstwerken – hier finden Sie alles\, um Ihren Garten in eine blühende Oase zu verwandeln und Ihr Zuhause zu verschönern. \nFür Ihr leibliches Wohl ist bestens gesorgt. Genießen Sie kulinarische Köstlichkeiten und erleben Sie die besondere Atmosphäre auf dem Gartenmarkt auf Schloss Neuenburg. \nFür alle Freyburger stehen außerdem kostenlose „Freitags-Freikarten“ zur Verfügung\, die ab sofort in der Tourist-Information Freyburg erhältlich sind. Im Eintrittspreis inbegriffen ist nicht nur der Zugang zu den vielfältigen Angeboten des „Schloss & Garten Markt“\, sondern auch ein Blick in die reiche Geschichte von Schloss Neuenburg: Besucher können das beeindruckende Burgmuseum entdecken\, im Weinmuseum regionale Weinkultur erleben\, in der Uhrenausstellung kunstvolle Zeitmesser bestaunen und in der liebevoll gestalteten Kinderkemenate auf Zeitreise gehen. Zudem lädt die Sonderausstellung „Alltagsschick und Sonntagsfein“ im imposanten Bergfried „Dicker Wilhelm“ zu einer faszinierenden Reise in vergangene Lebenswelten ein. \nTauchen Sie ein in eine Welt des Genusses\, der Eleganz und der inspirierenden Gartenkunst. \nTicket-ShopSchloss NeuenburgÖffnungszeiten\nFreitag bis Sonntag\n10 bis 18 Uhr \nAb 17 Uhr kein Einlass mehr möglich. \nEintritt\n8 Euro\npro Person \n6 Euro\nermäßigt (Schüler\, Studenten und Schwerbeschädigte mit entsprechendem Nachweis) \n15 Euro\nDauerkarte (nur im Ticket-Shop erhältlich) \nFreier Eintritt für Kinder unter 16 Jahren in Begleitung \nbargeldlose Bezahlung möglich \nDer Museumseintritt ist im Eintrittspreis enthalten.  \nService\nBargeld-Service (EC-Lastschrift) \nKostenloser Depotservice\nzur Aufbewahrung gekaufter Waren \nHunde angeleint erlaubt \nParken\nAusgeschilderte Besucherparkplätze in der Nähe des Veranstaltungsgeländes.\nParkgebühren sind im Eintrittspreis enthalten. \nStand: 13.01.2026\nÄnderungen vorbehalten!
URL:https://gartenkoenig.com/event/haus-und-garten-tage-schloss-neuenburg/
LOCATION:Schloss Neuenburg\, Schloß 1\, Freyburg (Unstrut)\, Sachsen-Anhalt\, 06632\, Deutschland
ATTACH;FMTTYPE=image/jpeg:https://gartenkoenig.com/wp-content/uploads/2020/11/Banner_HGT_Neunburg_340x173cm_2026.jpg
END:VEVENT
BEGIN:VEVENT
DTSTART;VALUE=DATE:20260704
DTEND;VALUE=DATE:20260706
DTSTAMP:20260421T171823
CREATED:20260127T145224Z
LAST-MODIFIED:20260225T105425Z
UID:11380-1783123200-1783295999@gartenkoenig.com
SUMMARY:Vitusmarkt Vacha
DESCRIPTION:Vitusmarkt\nMarktplatz/Johanneskirche Vacha\nAm ersten Juliwochenende 2026 wird die Innenstadt von Vacha wieder zur lebendigen Festmeile. Der traditionelle Vitusmarkt lädt Einheimische und Gäste aus der Region zu zwei abwechslungsreichen Tagen voller Marktleben\, Musik\, Genuss und historischer Atmosphäre ein. \nVon 10 bis 18 Uhr erwartet die Besucher an beiden Tagen ein vielfältiges Markttreiben mit zahlreichen Händlern auf dem Marktplatz sowie vor der Johanneskirche. Ergänzt wird das Programm durch einen stimmungsvollen Mittelaltermarkt und einen Flohmarkt rund um die Burg. Besonders der Mittelaltermarkt sorgt mit seinem besonderen Flair bis in die Abendstunden für ein einzigartiges Erlebnis. \nMusikalische Höhepunkte setzen die Abendveranstaltungen: Am Samstag\, den 4. Juli 2026\, lädt ab 19 Uhr der Tanz am Vitusbrunnen zum Feiern ein. Die Liveband Rockabama aus Heringen sorgt mit mitreißender Musik für beste Stimmung. Am Sonntag\, den 5. Juli 2026\, begeistert Regina Ross\, bekannt aus Funk und Fernsehen\, mit ihrem Auftritt auf der Vitusmarktbühne. \nAuch kulinarisch lässt der Vitusmarkt keine Wünsche offen. Von herzhaften Grillspezialitäten über mittelalterliche Speisen bis hin zu erfrischenden Getränken ist für jeden Geschmack etwas dabei. Unter dem Motto „Es wird wieder bunt in Vacha“ verspricht der Vitusmarkt 2026 ein erlebnisreiches Wochenende für Jung und Alt. \nÖffnungszeiten\nMarkttreiben: täglich 10–18 UhrMittelaltermarkt: bis in die AbendstundenTanz am Vitusbrunnen: Samstag ab 19 Uhr \nEintritt\nEintritt frei \nVeranstaltungsorte\nMarktplatz Vacha\nvor der Johanneskirche\nrund um die Burg\nVitusbrunnen \nStand: 13.01.2026\nÄnderungen vorbehalten!
URL:https://gartenkoenig.com/event/vitusmarkt-vacha/
LOCATION:Vacha\, Marktplatz\, Vacha\, Thüringen\, 36404
CATEGORIES:Märkte
ATTACH;FMTTYPE=image/jpeg:https://gartenkoenig.com/wp-content/uploads/2026/01/2025-06-23_Vitusmarkt_Vacha-1.jpg
END:VEVENT
END:VCALENDAR