BEGIN:VCALENDAR
VERSION:2.0
PRODID:-//Gartenkönig - ECPv6.8.3//NONSGML v1.0//EN
CALSCALE:GREGORIAN
METHOD:PUBLISH
X-WR-CALNAME:Gartenkönig
X-ORIGINAL-URL:https://gartenkoenig.com
X-WR-CALDESC:Veranstaltungen für Gartenkönig
REFRESH-INTERVAL;VALUE=DURATION:PT1H
X-Robots-Tag:noindex
X-PUBLISHED-TTL:PT1H
BEGIN:VTIMEZONE
TZID:Europe/Berlin
BEGIN:DAYLIGHT
TZOFFSETFROM:+0100
TZOFFSETTO:+0200
TZNAME:CEST
DTSTART:20260329T010000
END:DAYLIGHT
BEGIN:STANDARD
TZOFFSETFROM:+0200
TZOFFSETTO:+0100
TZNAME:CET
DTSTART:20261025T010000
END:STANDARD
END:VTIMEZONE
BEGIN:VEVENT
DTSTART;VALUE=DATE:20260710
DTEND;VALUE=DATE:20260713
DTSTAMP:20260421T185102
CREATED:20190930T072700Z
LAST-MODIFIED:20260121T102540Z
UID:3714-1783641600-1783900799@gartenkoenig.com
SUMMARY:"Friedewalder Gartenfest" Wasserburgruine
DESCRIPTION:Infos im ÜberblickFriedewalder Gartenfest\nWasserburgruine Friedewald\n\nEntdecken Sie eine einzigartige Veranstaltung\, bei der Aussteller im malerischen Park der Wasserburgruine Friedewald und im traumhaften Ambiente von Göbels Schlosshotel „Prinz von Hessen“ ihre Produkte für Haus\, Hof\, Garten und moderne Lebensart präsentieren. Tauchen Sie ein in die Welt der Pflanzen\, inspirierenden Dekorationen\, stilvollen Mode- und Accessoire-Trends sowie kulinarischen Genüssen. \nSchlendern Sie durch die historische Kulisse der Wasserburgruine und den idyllischen Park\, um von den sorgfältig ausgewählten Ausstellern inspiriert zu werden. Die Vielfalt reicht von grünen Pflanzenoasen bis zu exquisiten Lifestyle-Produkten. \nFür Ihr leibliches Wohl ist bestens gesorgt. Genießen Sie kulinarische Köstlichkeiten und erholen Sie sich in entspannter Atmosphäre. \nFreuen Sie sich auf ein Gartenfest\, das nicht nur Ihre Sinne anspricht\, sondern auch eine einzigartige Kulisse für Entdeckungen und Genuss bietet. \n\nTicket-ShopGöbels SchlosshotelÖffnungszeiten\nFreitag bis Sonntag\n10 bis 18 Uhr \nAb 17 Uhr kein Einlass mehr möglich. \nEintritt\n12 Euro\npro Person \n10 Euro\nermäßigt (Schüler\, Studenten und Schwerbeschädigte mit entsprechendem Nachweis) \n20 Euro\nDauerkarte (nur im Ticket-Shop erhältlich) \nFreier Eintritt für Kinder unter 16 Jahren in Begleitung \n bargeldlose Bezahlung möglich \nService\nBargeld-Service (EC-Lastschrift) \nKostenloser Depotservice\nzur Aufbewahrung gekaufter Waren \nHunde angeleint erlaubt \nParken\nausgeschilderte Besucherparkplätze vor Ort\nParkgebühren zugunsten der Feuerwehr Friedewald \n\nStand: 13.01.2026\nÄnderungen vorbehalten!
URL:https://gartenkoenig.com/event/friedewalder-gartenfest/
LOCATION:Wasserburgruine Friedewald\, Am Schlossplatz 1\, Friedewald\, Hessen\, 36289
ATTACH;FMTTYPE=image/jpeg:https://gartenkoenig.com/wp-content/uploads/2020/11/Banner_Friedewald_335x175_2026.jpg
END:VEVENT
END:VCALENDAR