BEGIN:VCALENDAR
VERSION:2.0
PRODID:-//Gartenkönig - ECPv6.8.3//NONSGML v1.0//EN
CALSCALE:GREGORIAN
METHOD:PUBLISH
X-WR-CALNAME:Gartenkönig
X-ORIGINAL-URL:https://gartenkoenig.com
X-WR-CALDESC:Veranstaltungen für Gartenkönig
REFRESH-INTERVAL;VALUE=DURATION:PT1H
X-Robots-Tag:noindex
X-PUBLISHED-TTL:PT1H
BEGIN:VTIMEZONE
TZID:Europe/Berlin
BEGIN:DAYLIGHT
TZOFFSETFROM:+0100
TZOFFSETTO:+0200
TZNAME:CEST
DTSTART:20260329T010000
END:DAYLIGHT
BEGIN:STANDARD
TZOFFSETFROM:+0200
TZOFFSETTO:+0100
TZNAME:CET
DTSTART:20261025T010000
END:STANDARD
END:VTIMEZONE
BEGIN:VEVENT
DTSTART;VALUE=DATE:20260731
DTEND;VALUE=DATE:20260803
DTSTAMP:20260421T225206
CREATED:20190930T073054Z
LAST-MODIFIED:20260121T102824Z
UID:3719-1785456000-1785715199@gartenkoenig.com
SUMMARY:"Schloss- & Gartenmarkt" Schloss Trebsen
DESCRIPTION:Infos im ÜberblickSchloss- & Gartenmarkt \nSchloss Trebsen\nErleben Sie eine einzigartige Veranstaltung mit Ausstellern\, die den Park von Schloss Trebsen in eine inspirierende Oase für Haus\, Hof\, Garten und moderne Lebensart verwandeln. Entdecken Sie eine reiche Vielfalt an Pflanzen\, kunstvollen Dekorationen\, stilvoller Mode\, trendigen Accessoires und kulinarischen Genüssen. \nSchlendern Sie durch die geschichtsträchtige Kulisse desvierflügeligen spätgotischen Schlosses und Park im Landkreis Leipzig und lassen Sie sich von den sorgfältig ausgewählten Ausstellern inspirieren. Hier finden Sie alles\, um Ihren Garten zu verschönern und Ihr Zuhause in eine stilvolle Oase zu verwandeln. \nFür Ihr leibliches Wohl ist bestens gesorgt. Genießen Sie kulinarische Köstlichkeiten und erleben Sie die einzigartige Atmosphäre dieses historischen Ortes. \nFreuen Sie sich auf einen Tag voller Entdeckungen und Genüsse beim Schloss- & Gartenmarkt in Trebsen. \nTicket-ShopÖffnungszeiten\nFreitag bis Sonntag\n10 bis 18 Uhr \nAb 17 Uhr kein Einlass mehr möglich. \nEintritt\n10 Euro\npro Person \n8 Euro\nermäßigt (Schüler\, Studenten und Schwerbeschädigte mit entsprechendem Nachweis) \n20 Euro\nDauerkarte (nur im Ticket-Shop erhältlich) \nFreier Eintritt für Kinder unter 16 Jahren in Begleitung \nbargeldlose Bezahlung möglich \nService\nBargeld-Service (EC-Lastschrift) \nKostenloser Depotservice\nzur Aufbewahrung gekaufter Waren \nHunde angeleint erlaubt \nParken\nParkgebühren zugunsten Schloss Trebsen \nStand: 13.01.2026\nÄnderungen vorbehalten!
URL:https://gartenkoenig.com/event/schloss-gartenfest-schloss-trebsen/
LOCATION:Schloss Trebsen\, Zum Schloss 1\, Trebsen\, Sachsen\, 04687
ATTACH;FMTTYPE=image/jpeg:https://gartenkoenig.com/wp-content/uploads/2020/11/Banner_Trebsen_335x175_2026.jpg
END:VEVENT
END:VCALENDAR