BEGIN:VCALENDAR
VERSION:2.0
PRODID:-//Gartenkönig - ECPv6.8.3//NONSGML v1.0//EN
CALSCALE:GREGORIAN
METHOD:PUBLISH
X-ORIGINAL-URL:https://gartenkoenig.com
X-WR-CALDESC:Veranstaltungen für Gartenkönig
REFRESH-INTERVAL;VALUE=DURATION:PT1H
X-Robots-Tag:noindex
X-PUBLISHED-TTL:PT1H
BEGIN:VTIMEZONE
TZID:Europe/Berlin
BEGIN:DAYLIGHT
TZOFFSETFROM:+0100
TZOFFSETTO:+0200
TZNAME:CEST
DTSTART:20260329T010000
END:DAYLIGHT
BEGIN:STANDARD
TZOFFSETFROM:+0200
TZOFFSETTO:+0100
TZNAME:CET
DTSTART:20261025T010000
END:STANDARD
END:VTIMEZONE
BEGIN:VEVENT
DTSTART;VALUE=DATE:20260814
DTEND;VALUE=DATE:20260817
DTSTAMP:20260422T003236
CREATED:20190930T073404Z
LAST-MODIFIED:20260121T103435Z
UID:3722-1786665600-1786924799@gartenkoenig.com
SUMMARY:"Haus & Garten Träume" Schlosspark Lichtenwalde
DESCRIPTION:Infos im ÜberblickHaus & Garten Träume\nSchlosspark Lichtenwalde\nTauchen Sie ein in eine Welt der Inspiration\, wenn Aussteller im malerischen Schlosspark Lichtenwalde ihre Produkte für Haus\, Hof\, Garten und moderne Lebensart präsentieren. Erleben Sie eine breite Vielfalt von Pflanzen\, kunstvollen Dekorationen\, stilvoller Mode\, trendigen Accessoires und kulinarischen Genüssen. \nFlanieren Sie durch die idyllischen Wege des Schlossparks und lassen Sie sich von den sorgfältig ausgewählten Ausstellern inspirieren. Hier finden Sie alles\, um Ihr Zuhause und Ihren Garten in einen Ort der Träume zu verwandeln. \nFür Ihr leibliches Wohl ist bestens gesorgt. Genießen Sie kulinarische Köstlichkeiten und entspannen Sie sich in der einzigartigen Atmosphäre des Schlossparks Lichtenwalde. \nFreuen Sie sich auf einen Tag voller Entdeckungen und Genüsse bei den Haus- & Garten Träumen. \nTicket-ShopÖffnungszeiten\nFreitag bis Sonntag\n10 bis 18 Uhr \nAb 17 Uhr kein Einlass mehr möglich. \nEintritt\n12 Euro\npro Person \n10 Euro\nermäßigt (Schüler\, Studenten\, Schwerbeschädigte und Inhaber der Parkjahreskarten) \n20 Euro\nDauerkarte (nur im Ticket-Shop erhältlich) \nFreier Eintritt für Kinder unter 16 Jahren in Begleitung \nbargeldlose Bezahlung möglich \nService\nBargeld-Service (EC-Lastschrift) \nKostenloser Depotservice\nzur Aufbewahrung gekaufter Waren \nHunde angeleint erlaubt \nParken\nausgeschilderte gebührenpflichtige Besucherparkplätze vor Ort\n(August-Bebel-Straße oder Niederwiesaer Weg) \nStand: 13.01.2026\nÄnderungen vorbehalten!
URL:https://gartenkoenig.com/event/haus-garten-traeume-schlosspark-lichtenwalde/
LOCATION:Schloss Lichtenwalde\, Schlossallee\, Niederwiesa/ OT Lichtenwalde\, Sachsen\, 09577\, Deutschland
ATTACH;FMTTYPE=image/jpeg:https://gartenkoenig.com/wp-content/uploads/2020/11/Banner_Lichtenwalde_335_175_2026.jpg
END:VEVENT
END:VCALENDAR