BEGIN:VCALENDAR
VERSION:2.0
PRODID:-//Gartenkönig - ECPv6.8.3//NONSGML v1.0//EN
CALSCALE:GREGORIAN
METHOD:PUBLISH
X-WR-CALNAME:Gartenkönig
X-ORIGINAL-URL:https://gartenkoenig.com
X-WR-CALDESC:Veranstaltungen für Gartenkönig
REFRESH-INTERVAL;VALUE=DURATION:PT1H
X-Robots-Tag:noindex
X-PUBLISHED-TTL:PT1H
BEGIN:VTIMEZONE
TZID:Europe/Berlin
BEGIN:DAYLIGHT
TZOFFSETFROM:+0100
TZOFFSETTO:+0200
TZNAME:CEST
DTSTART:20260329T010000
END:DAYLIGHT
BEGIN:STANDARD
TZOFFSETFROM:+0200
TZOFFSETTO:+0100
TZNAME:CET
DTSTART:20261025T010000
END:STANDARD
END:VTIMEZONE
BEGIN:VEVENT
DTSTART;VALUE=DATE:20261002
DTEND;VALUE=DATE:20261005
DTSTAMP:20260422T015316
CREATED:20200610T161233Z
LAST-MODIFIED:20260121T103808Z
UID:5523-1790899200-1791158399@gartenkoenig.com
SUMMARY:"Herbstzauber" Burg & Park Ohrdruf
DESCRIPTION:Infos im ÜberblickHerbstzauber\nBurg & Park Ohrdruf\nErleben Sie die herbstliche Magie\, wenn Aussteller den Park\, den Burghof und die Innenräume der Burg & Park Ohrdruf in eine vielfältige Bühne für den Herbst verwandeln. Entdecken Sie eine breite Palette von Händlern\, die saisonale Pflanzen anbieten\, sowie kunstvolle Dekorationen\, stilvolle Mode\, trendige Accessoires und kulinarische Köstlichkeiten. \nSchlendern Sie durch den Park\, genießen Sie das Flair des Burghofs und erkunden Sie die Innenräume der Burg Ohrdruf\, während Sie von den sorgfältig ausgewählten Ausstellern inspiriert werden. Von herbstlichen Pflanzenvielfalt bis zu einzigartigen Handwerkskunstwerken – hier finden Sie alles\, um den Zauber des Herbstes in Ihr Zuhause zu holen. \nFür Ihr leibliches Wohl ist bestens gesorgt. Genießen Sie kulinarische Köstlichkeiten und erleben Sie die herzliche Atmosphäre des Herbstzaubers auf Burg & Park Ohrdruf. \nTauchen Sie ein in eine Welt des Genusses\, der Gemütlichkeit und der herbstlichen Schönheit. \nTicket-ShopÖffnungszeiten\nFreitag bis Sonntag\n10 bis 18 Uhr \nAb 17 Uhr kein Einlass mehr möglich. \nEintritt\n10 Euro\npro Person \n8 Euro\nermäßigt (Schüler\, Studenten und Schwerbeschädigte mit entsprechendem Nachweis) \n20 Euro\nDauerkarte (nur im Ticket-Shop erhältlich) \nFreier Eintritt für Kinder unter 16 Jahren in Begleitung \nbargeldlose Bezahlung möglich \nService\nBargeld-Service (EC-Lastschrift) \nKostenloser Depotservice\nzur Aufbewahrung gekaufter Waren \nHunde angeleint erlaubt \nParken\nausgeschilderte kostenfreie Besucherparkplätze vor Ort \nStand: 13.01.2026\nÄnderungen vorbehalten!
URL:https://gartenkoenig.com/event/herbst-zauber-ohrdruf/
LOCATION:Burg & Park Ohrdruf\, Gothaer Str. 30\, Ohrdruf\, Thüringen\, 99885
ATTACH;FMTTYPE=image/jpeg:https://gartenkoenig.com/wp-content/uploads/2020/11/Banner_Herbstzauber_Ohrdruf_335x175_2026.jpg
END:VEVENT
BEGIN:VEVENT
DTSTART;VALUE=DATE:20261003
DTEND;VALUE=DATE:20261004
DTSTAMP:20260422T015317
CREATED:20260127T151223Z
LAST-MODIFIED:20260225T142423Z
UID:11385-1790985600-1791071999@gartenkoenig.com
SUMMARY:37. Wirtefest & Herbstmarkt Kaltennordheim
DESCRIPTION:37. Wirtefest & Herbstmarkt Kaltennordheim\nInnenstadt Kaltennordheim\n„Auf nach Nurde!“ heißt es auch 2026 wieder am Tag der Deutschen Einheit. Am 3. Oktober 2026 lädt die Stadt Kaltennordheim zum traditionellen Herbstmarkt und zum beliebten Wirtefest ein. Ein buntes Fest für die ganze Familie\, das Einheimische wie Gäste gleichermaßen begeistert. \nRund um die Innenstadt verwandelt sich Kaltennordheim an diesem Tag in eine lebendige Marktmeile. Zahlreiche Händler – darunter auch neue Anbieter – präsentieren ein vielfältiges Angebot passend zur herbstlichen Jahreszeit. Von regionalen Produkten über liebevoll gefertigtes Kunsthandwerk bis hin zu besonderen Geschenkideen gibt es viel zu entdecken. Der Herbstmarkt ist von 10 bis 18 Uhr geöffnet und lädt zum Bummeln\, Stöbern und Einkaufen ein. \nAuch die Geschäfte der Innenstadt beteiligen sich mit einem verkaufsoffenen Feiertag. Für das leibliche Wohl ist bestens gesorgt: In den örtlichen Gaststätten wird traditionell der beliebte „Herbstteller“ mit Klößen und Braten serviert. Darüber hinaus erwarten die Besucher zahlreiche kulinarische Angebote – von herzhaften Spezialitäten und frisch Gebackenem aus dem Holzbackofen bis hin zu Fischgerichten\, Gegrilltem\, Crêpes und Streetfood. \nEin besonderes Highlight ist das Wirtefest\, das auch 2026 wieder zum geselligen Verweilen einlädt. Ergänzt wird das Programm durch die Auto-Herbst-Parade\, bei der regionale Autohäuser ihre neuesten Modelle und aktuelle Trends präsentieren. Zusätzlich lockt ein Antik- und Trödelmarkt im Schlosshof mit besonderen Fundstücken. \nAuch für Kinder ist bestens gesorgt: Hüpfburgen\, Karussell\, Kinderschminken und weitere Mitmachaktionen sorgen für Spaß und Abwechslung bei den jüngsten Besuchern. \nDer Herbstmarkt & das Wirtefest 2026 versprechen einen stimmungsvollen Feiertag voller Genuss\, Begegnungen und herbstlicher Atmosphäre – ein Fest\, das man nicht verpassen sollte. \nÖffnungszeiten10:00 bis 18:00 UhrEintritt\nfreier Eintritt \nStand: 13.01.2026Änderungen vorbehalten!
URL:https://gartenkoenig.com/event/37-wirtefest-herbstmarkt-kaltennordheim/
LOCATION:Kaltennordheim\, Wilhelm-Külz-Platz 2\, Kaltennordheim\, Thüringen\, 36452
CATEGORIES:Märkte
ATTACH;FMTTYPE=image/jpeg:https://gartenkoenig.com/wp-content/uploads/2026/01/banner-Wirtefest.jpg
END:VEVENT
END:VCALENDAR