BEGIN:VCALENDAR
VERSION:2.0
PRODID:-//Gartenkönig - ECPv6.8.3//NONSGML v1.0//EN
CALSCALE:GREGORIAN
METHOD:PUBLISH
X-WR-CALNAME:Gartenkönig
X-ORIGINAL-URL:https://gartenkoenig.com
X-WR-CALDESC:Veranstaltungen für Gartenkönig
REFRESH-INTERVAL;VALUE=DURATION:PT1H
X-Robots-Tag:noindex
X-PUBLISHED-TTL:PT1H
BEGIN:VTIMEZONE
TZID:Europe/Berlin
BEGIN:DAYLIGHT
TZOFFSETFROM:+0100
TZOFFSETTO:+0200
TZNAME:CEST
DTSTART:20260329T010000
END:DAYLIGHT
BEGIN:STANDARD
TZOFFSETFROM:+0200
TZOFFSETTO:+0100
TZNAME:CET
DTSTART:20261025T010000
END:STANDARD
END:VTIMEZONE
BEGIN:VEVENT
DTSTART;VALUE=DATE:20261023
DTEND;VALUE=DATE:20261026
DTSTAMP:20260422T032519
CREATED:20230206T144623Z
LAST-MODIFIED:20260121T103955Z
UID:9537-1792713600-1792972799@gartenkoenig.com
SUMMARY:"Herbstzauber" Wasserschloss Mitwitz
DESCRIPTION:Infos im ÜberblickHerbstzauber\nWasserschloss Mitwitz\nErleben Sie eine bezaubernde Veranstaltung mit Ausstellern\, die den Park des Wasserschlosses Mitwitz in einen herbstlichen Marktplatz für Haus\, Hof und Garten verwandeln. Tauchen Sie ein in eine Vielfalt von Händlern\, die saisonale Pflanzen anbieten\, sowie kunstvolle Dekorationen\, stilvolle Mode\, trendige Accessoires und kulinarische Köstlichkeiten. \nSchlendern Sie durch die malerischen Park und lassen Sie sich von den sorgfältig ausgewählten Ausstellern inspirieren. Von herbstlichen Pflanzenvielfalt bis zu einzigartigen Handwerkskunstwerken – hier finden Sie alles\, um Ihr Zuhause und Ihren Garten in eine herbstliche Wohlfühloase zu verwandeln. \nFür Ihr leibliches Wohl ist bestens gesorgt. Genießen Sie kulinarische Köstlichkeiten und erleben Sie die herbstliche Atmosphäre im Wasserschloss Mitwitz. \nTauchen Sie ein in eine Welt des Genusses\, der Gemütlichkeit und der herbstlichen Schönheit. \nTicket-ShopÖffnungszeiten\nFreitag\n13 bis 18 Uhr \nSamstag und Sonntag\n10 bis 18 Uhr \nAb 17 Uhr kein Einlass mehr möglich. \nEintritt\n8 Euro\npro Person \n6 Euro\nermäßigt (Schüler\, Studenten und Schwerbeschädigte mit entsprechendem Nachweis) \n15 Euro\nDauerkarte (nur im Ticket-Shop erhältlich) \nFreier Eintritt für Kinder unter 16 Jahren in Begleitung \nbargeldlose Bezahlung möglich \nService\nBargeld-Service (EC-Lastschrift) \nKostenloser Depotservice\nzur Aufbewahrung gekaufter Waren \nHunde angeleint erlaubt \nParken\nausgeschilderte kostenfreie Besucherparkplätze vor Ort \nStand: 13.01.2026\nÄnderungen vorbehalten!
URL:https://gartenkoenig.com/event/herbstzauber-wasserschloss-mitwitz/
LOCATION:Wasserschloss Mitwitz\, Unteres Schloss 5\, Mitwitz\, Bayern\, 96268\, Deutschland
ATTACH;FMTTYPE=image/jpeg:https://gartenkoenig.com/wp-content/uploads/2020/11/Bauzaunbanner_Herbst_Mitwitz_335x175cm_2026.jpg
END:VEVENT
END:VCALENDAR