BEGIN:VCALENDAR
VERSION:2.0
PRODID:-//Gartenkönig - ECPv6.8.3//NONSGML v1.0//EN
CALSCALE:GREGORIAN
METHOD:PUBLISH
X-ORIGINAL-URL:https://gartenkoenig.com
X-WR-CALDESC:Veranstaltungen für Gartenkönig
REFRESH-INTERVAL;VALUE=DURATION:PT1H
X-Robots-Tag:noindex
X-PUBLISHED-TTL:PT1H
BEGIN:VTIMEZONE
TZID:Europe/Berlin
BEGIN:DAYLIGHT
TZOFFSETFROM:+0100
TZOFFSETTO:+0200
TZNAME:CEST
DTSTART:20260329T010000
END:DAYLIGHT
BEGIN:STANDARD
TZOFFSETFROM:+0200
TZOFFSETTO:+0100
TZNAME:CET
DTSTART:20261025T010000
END:STANDARD
END:VTIMEZONE
BEGIN:VEVENT
DTSTART;VALUE=DATE:20261204
DTEND;VALUE=DATE:20261207
DTSTAMP:20260422T051710
CREATED:20190930T080914Z
LAST-MODIFIED:20260113T104408Z
UID:3757-1796342400-1796601599@gartenkoenig.com
SUMMARY:„Friedewalder Weihnachtszauber“ Wasserburgruine
DESCRIPTION:„Friedewalder Weihnachtszauber“\nWasserburgruine Friedewald\nErleben Sie eine festliche Veranstaltung mit Ausstellern im malerischen Außenbereich\, im stimmungsvollen Rittersaal des Schlosshotels und weiteren Innenräumen. Entdecken Sie kunstvolle Handarbeiten\, festliche Dekorationen\, kostbare Töpfereiarbeiten\, stilvolle Mode & Accessoires sowie kulinarische Köstlichkeiten. \nTauchen Sie ein in die zauberhafte Weihnachtsatmosphäre und lassen Sie sich von einzigartigen Geschenkideen und festlichen Inspirationen begeistern. \nFür Ihr leibliches Wohl ist bestens gesorgt. Genießen Sie die vorweihnachtliche Stimmung beim Friedewalder Weihnachtszauber – ein Erlebnis für die ganze Familie! \nTicket-ShopSchloss HotelÖffnungszeiten\nFreitag 16 bis 21 Uhr\nSamstag 13 bis 22 Uhr\nSonntag 11 bis 19 Uhr \nEinlass bis jeweils 1 Std. vor Ausstellungsende \nWegezoll\n5 Euro\npro Person \nDauerkarte: 8 Euro\npro Person \nFreier Eintritt für Kinder unter 16 Jahren in Begleitung \nService\nBargeld-Service (EC-Lastschrift) \nHunde angeleint erlaubt \nParkenausgeschilderte Besucherparkplätze vor Ort\, Parkgebühren zugunsten der Feuerwehr FriedewaldStand: 13.01.2026\nÄnderungen vorbehalten!
URL:https://gartenkoenig.com/event/friedewalder-weihnachtszauber/
LOCATION:Wasserburgruine Friedewald\, Am Schlossplatz 1\, Friedewald\, Hessen\, 36289
ATTACH;FMTTYPE=image/jpeg:https://gartenkoenig.com/wp-content/uploads/2020/11/Banner_Advent_Friedewald_335_175_2026.jpg
END:VEVENT
END:VCALENDAR