BEGIN:VCALENDAR
VERSION:2.0
PRODID:-//Gartenkönig - ECPv6.8.3//NONSGML v1.0//EN
CALSCALE:GREGORIAN
METHOD:PUBLISH
X-WR-CALNAME:Gartenkönig
X-ORIGINAL-URL:https://gartenkoenig.com
X-WR-CALDESC:Veranstaltungen für Gartenkönig
REFRESH-INTERVAL;VALUE=DURATION:PT1H
X-Robots-Tag:noindex
X-PUBLISHED-TTL:PT1H
BEGIN:VTIMEZONE
TZID:Europe/Berlin
BEGIN:DAYLIGHT
TZOFFSETFROM:+0100
TZOFFSETTO:+0200
TZNAME:CEST
DTSTART:20240331T010000
END:DAYLIGHT
BEGIN:STANDARD
TZOFFSETFROM:+0200
TZOFFSETTO:+0100
TZNAME:CET
DTSTART:20241027T010000
END:STANDARD
BEGIN:DAYLIGHT
TZOFFSETFROM:+0100
TZOFFSETTO:+0200
TZNAME:CEST
DTSTART:20250330T010000
END:DAYLIGHT
BEGIN:STANDARD
TZOFFSETFROM:+0200
TZOFFSETTO:+0100
TZNAME:CET
DTSTART:20251026T010000
END:STANDARD
BEGIN:DAYLIGHT
TZOFFSETFROM:+0100
TZOFFSETTO:+0200
TZNAME:CEST
DTSTART:20260329T010000
END:DAYLIGHT
BEGIN:STANDARD
TZOFFSETFROM:+0200
TZOFFSETTO:+0100
TZNAME:CET
DTSTART:20261025T010000
END:STANDARD
END:VTIMEZONE
BEGIN:VEVENT
DTSTART;VALUE=DATE:20260418
DTEND;VALUE=DATE:20260420
DTSTAMP:20260425T220736
CREATED:20260129T091932Z
LAST-MODIFIED:20260318T115820Z
UID:11397-1776470400-1776643199@gartenkoenig.com
SUMMARY:"Frühling auf Schloss Trebsen" Schloss Trebsen
DESCRIPTION:Infos im ÜberblickFrühling auf Schloss Trebsen\nSchloss Trebsen\nErleben Sie eine stimmungsvolle Frühlingsveranstaltung auf Schloss Trebsen\, bei der ausgewählte Aussteller die historischen Innenräume sowie rund um das historische Anwesen in eine inspirierende Welt für Haus\, Hof und moderne Lebensart verwandeln. Entdecken Sie eine vielfältige Auswahl an kunstvollen Dekorationen\, stilvoller Mode\, besonderen Accessoires\, liebevollen Geschenkideen und kulinarischen Genüssen. \nSchlendern Sie durch die geschichtsträchtigen Räume des vierflügeligen spätgotischen Bauwerks im Landkreis Leipzig und lassen Sie sich von der besonderen Atmosphäre und den sorgfältig ausgewählten Ausstellern inspirieren. Hier finden Sie viele schöne Ideen\, um den Frühling in Ihr Zuhause einziehen zu lassen. \nFür Ihr leibliches Wohl ist bestens gesorgt: Freuen Sie sich auf ausgewählte kulinarische Köstlichkeiten in einzigartigem historischem Ambiente. \nGenießen Sie ein frühlingshaftes Wochenende voller Entdeckungen\, Inspirationen und Genuss bei der Frühlingsveranstaltung – am Samstag und Sonntag\, in den Innenräumen und rund um das historische Anwesen. \nTicket-ShopÖffnungszeitenSamstag bis Sonntag\n10 bis 18 Uhr \nAb 17 Uhr kein Einlass mehr möglich.Eintritt\n6 Euro\npro Person \nFreier Eintritt für Kinder unter 16 Jahren in Begleitung \nService\nKostenloser Depotservice\nzur Aufbewahrung gekaufter Waren \nHunde angeleint erlaubt \nParken\nParkgebühren zugunsten Schloss Trebsen \nStand: 13.01.2026\nÄnderungen vorbehalten!
URL:https://gartenkoenig.com/event/fruehling-auf-schloss-trebsen-schloss-trebsen/
LOCATION:Schloss Trebsen\, Zum Schloss 1\, Trebsen\, Sachsen\, 04687
ATTACH;FMTTYPE=image/jpeg:https://gartenkoenig.com/wp-content/uploads/2026/01/Banner_Fruehling_Trebsen_335x175_2026.jpg
END:VEVENT
BEGIN:VEVENT
DTSTART;VALUE=DATE:20260404
DTEND;VALUE=DATE:20260407
DTSTAMP:20260425T220736
CREATED:20201102T174440Z
LAST-MODIFIED:20260325T152252Z
UID:6624-1775260800-1775519999@gartenkoenig.com
SUMMARY:"Ostern auf Burg Ohrdruf" Burg & Park Ohrdruf
DESCRIPTION:Infos im ÜberblickOstern auf Burg Ohrdruf\nFrühlingsmarkt Burg & Park Ohrdruf\nTauchen Sie ein in die frühlingshafte Atmosphäre auf der idyllischen Burg & Park Ohrdruf und entdecken Sie alles\, was Ihr Zuhause schöner macht. Unsere vielfältigen Händler präsentieren eine breite Palette an Produkten rund um Haus\, Hof\, Garten\, Balkon und Terrasse. Von saisonalen Pflanzen und Gartengeräten bis hin zu stilvollen Dekorationen – hier finden Sie alles\, um Ihr Heim in ein grünes Paradies zu verwandeln. \nNeben den Gartenhighlights erwarten Sie auch Anbieter mit Mode\, Accessoires und Dekorationen\, um Ihrem persönlichen Stil den letzten Schliff zu verleihen. Stöbern Sie durch einzigartige Kreationen und lassen Sie sich inspirieren. \nFür das leibliche Wohl ist bestens gesorgt: Genießen Sie kulinarische Köstlichkeiten und erfrischende Getränke in entspannter Burgatmosphäre. \nErleben Sie einen unvergesslichen Frühlingstag auf Burg & Park Ohrdruf und lassen Sie sich von der Vielfalt unserer Aussteller begeistern. \nProgrammPressemitteilungTicket-ShopÖffnungszeiten\nSamstag bis Montag\n10 bis 18 Uhr \nAb 17 Uhr kein Einlass mehr möglich. \nEintritt\n10 Euro\npro Person \n8 Euro\nermäßigt (Schüler\, Studenten und Schwerbeschädigte mit entsprechendem Nachweis) \n20 Euro\nDauerkarte (nur im Ticket-Shop erhältlich) \nFreier Eintritt für Kinder unter 16 Jahren in Begleitung \nbargeldlose Bezahlung möglich \nService\nBargeld-Service (EC-Lastschrift) \nKostenloser Depotservice\nzur Aufbewahrung gekaufter Waren \nHunde angeleint erlaubt \nParken\nausgeschilderte kostenfreie Besucherparkplätze vor Ort \nStand: 13.01.2026\nÄnderungen vorbehalten!
URL:https://gartenkoenig.com/event/oster-gartenmarkt-burg-park-ohrdruf/
LOCATION:Burg & Park Ohrdruf\, Gothaer Str. 30\, Ohrdruf\, Thüringen\, 99885
ATTACH;FMTTYPE=image/jpeg:https://gartenkoenig.com/wp-content/uploads/2020/11/Banner_Ostern_Ohrdruf_335_175_2026.jpg
END:VEVENT
BEGIN:VEVENT
DTSTART;VALUE=DATE:20260329
DTEND;VALUE=DATE:20260330
DTSTAMP:20260425T220736
CREATED:20260127T134842Z
LAST-MODIFIED:20260130T141512Z
UID:11372-1774742400-1774828799@gartenkoenig.com
SUMMARY:Rhöner Ostermarkt Kaltennordheim
DESCRIPTION:Rhöner Ostermarkt Kaltennordheim\nInnenstadt Kaltennordheim\nDer Frühling hält Einzug in Kaltennordheim – und damit auch der Rhöner Ostermarkt 2026. Am Sonntag\, den 29. März\, lädt die Stadt von 10 bis 18 Uhr zu einem bunten Frühlingsfest für die ganze Familie ein. Zahlreiche Händler und regionale Anbieter präsentieren ein vielfältiges Angebot rund um Ostern\, Kunsthandwerk sowie Haus und Garten. Kulinarische Spezialitäten von süß bis deftig\, ein abwechslungsreiches Kinderprogramm mit Hüpfburg\, Karussell und Kinderschminken sowie der Besuch des Osterhasen sorgen für beste Unterhaltung. Begleitet wird der Markt von Musik\, offenen Geschäften in der Innenstadt und weiteren Attraktionen. Ein Fest zum Flanieren\, Genießen und Zusammenkommen. \nÖffnungszeiten\n10:00 bis 18:00 Uhr \nEintritt\nEintritt frei \nStand: 13.01.2026\nÄnderungen vorbehalten!
URL:https://gartenkoenig.com/event/rhoener-ostermarkt-kaltennordheim/
LOCATION:Kaltennordheim\, Wilhelm-Külz-Platz 2\, Kaltennordheim\, Thüringen\, 36452
CATEGORIES:Märkte
ATTACH;FMTTYPE=image/jpeg:https://gartenkoenig.com/wp-content/uploads/2026/01/Banner_Ostern_Kaltennordheim_335_175_2026.jpg
END:VEVENT
BEGIN:VEVENT
DTSTART;VALUE=DATE:20250829
DTEND;VALUE=DATE:20250901
DTSTAMP:20260425T220736
CREATED:20201102T151327Z
LAST-MODIFIED:20250818T140326Z
UID:6609-1756425600-1756684799@gartenkoenig.com
SUMMARY:"GutsTage" Rittergut Wolfsburg-Nordsteimke
DESCRIPTION:Infos im ÜberblickGutsTage\nRittergut Wolfsburg-Nordsteimke\nErleben Sie eine einzigartige Veranstaltung\, bei der hochwertige Aussteller im malerischen Gutshof\, im idyllischen Park und in der rustikalen Scheune des Ritterguts Nordsteimke bei Wolfsburg ihre Produkte präsentieren. Entdecken Sie exklusive Dekorationen\, stilvolle Mode\, trendige Accessoires und kulinarische Köstlichkeiten von herausragender Qualität. \nFlanieren Sie durch die historischen Gemäuer des Gutshofs\, spazieren Sie durch den charmanten Park und erleben Sie die rustikale Atmosphäre der Scheune\, während Sie von den sorgfältig ausgewählten Ausstellern inspiriert werden. Von hochwertigen Pflanzen bis zu einzigartigen Handwerkskunstwerken – hier finden Sie alles\, um Ihr Zuhause zu verschönern. \nHändler mit einer besonderen Leidenschaft für Pflanzen stehen Ihnen ebenfalls zur Verfügung\, um Ihnen grüne Inspirationen und hochwertige Gewächse zu bieten. \nFür Ihr leibliches Wohl ist bestens gesorgt. Genießen Sie kulinarische Köstlichkeiten und erleben Sie die einzigartige Atmosphäre auf dem Rittergut Nordsteimke. \nFreuen Sie sich auf ein Wochenende voller exquisiter Entdeckungen\, musikalischer Highlights und kulinarischer Genüsse bei den GutsTagen. \nProgrammPressemitteilungTicket-ShopÖffnungszeiten\nFreitag \n13 bis 18 Uhr \nSamstag und Sonntag\n10 bis 18 Uhr \nAb 17 Uhr kein Einlass mehr möglich. \nEintritt\n10 Euro\npro Person \n\n8 Euro\nermäßigt (Schüler\, Studenten und Schwerbeschädigte mit entsprechendem Nachweis) \nFreier Eintritt für Kinder unter 16 Jahren in Begleitung \nbargeldlose Bezahlung möglich \nService\nBargeld-Service (EC-Lastschrift) \nKostenloser Depotservice\nzur Aufbewahrung gekaufter Waren \nHunde angeleint erlaubt \nParken\nausgeschilderte Besucherparkplätze vor Ort\n(Parkgebühren inklusive) \nStand: 08.01.2025\nÄnderungen vorbehalten!
URL:https://gartenkoenig.com/event/guts-tage-nordsteimke/
LOCATION:Rittergut Wolfsburg-Nordsteimke\, Schulenburgstraße 8-10\, Wolfsburg\, Niedersachsen\, 38446\, Deutschland
ATTACH;FMTTYPE=image/jpeg:https://gartenkoenig.com/wp-content/uploads/2020/11/Banner_2x1_m_Nordsteimke_Gutstage_2025_web1.jpg
END:VEVENT
BEGIN:VEVENT
DTSTART;VALUE=DATE:20250704
DTEND;VALUE=DATE:20250707
DTSTAMP:20260425T220736
CREATED:20201031T201852Z
LAST-MODIFIED:20250625T141110Z
UID:6560-1751587200-1751846399@gartenkoenig.com
SUMMARY:Haus & Garten Tage Schloss Kromsdorf bei Weimar
DESCRIPTION:Infos im ÜberblickHaus & Garten Tage\nSchloss Kromsdorf\nTauchen Sie ein in eine Welt voller Inspirationen rund um Haus\, Hof\, Garten und Balkon. Diese einzigartige Veranstaltung bietet Ihnen Aussteller im malerischen Schlosshof und auf dem Gelände von Schloss Kromsdorf. Hier finden Sie alles\, um Ihr Zuhause und Ihren Garten in eine blühende Oase zu verwandeln. \nEntdecken Sie eine breite Palette von Händlern mit Pflanzen\, kunstvollen Dekorationen\, stilvoller Mode\, trendigen Accessoires und kulinarischen Köstlichkeiten. Der Gartenmarkt auf Schloss Kromsdorf präsentiert eine sorgfältig kuratierte Auswahl\, um Ihren Haus- und Gartenbereich zu verschönern. \nFür Ihr leibliches Wohl ist bestens gesorgt. Genießen Sie kulinarische Köstlichkeiten und erleben Sie die besondere Atmosphäre auf dem Gartenmarkt auf Schloss Kromsdorf. \nSeien Sie Teil dieser Veranstaltung\, tauchen Sie ein in eine Welt des Genusses\, der Eleganz und der Gartenkunst. \nPressemitteilungTicket-ShopÖffnungszeiten\nFreitag bis Sonntag\n10 bis 18 Uhr \nAb 17 Uhr kein Einlass mehr möglich. \nEintritt\n10 Euro\npro Person \n8 Euro\nermäßigt (Schüler\, Studenten und Schwerbeschädigte mit entsprechendem Nachweis) \nFreier Eintritt für Kinder unter 16 Jahren in Begleitung \nbargeldlose Bezahlung möglich \nService\nBargeld-Service (EC-Lastschrift) \nKostenloser Depotservice\nzur Aufbewahrung gekaufter Waren \nHunde angeleint erlaubt \nParken\nausgeschilderte Besucherparkplätze vor Ort \nStand: 08.01.2025\nÄnderungen vorbehalten!
URL:https://gartenkoenig.com/event/haus-und-garten-tage-schloss-kromsdorf/
LOCATION:Schloss Kromsdorf\, Platz d. Demokratie 47\, Kromsdorf\, Thüringen\, 99441
ATTACH;FMTTYPE=image/jpeg:https://gartenkoenig.com/wp-content/uploads/2020/11/Banner_340x173cm_HGT_Kromsdorf_2025_web2.jpg
END:VEVENT
BEGIN:VEVENT
DTSTART;VALUE=DATE:20241206
DTEND;VALUE=DATE:20241209
DTSTAMP:20260425T220736
CREATED:20201102T164846Z
LAST-MODIFIED:20241126T124358Z
UID:6621-1733443200-1733702399@gartenkoenig.com
SUMMARY:Advent Markt der Sinne Kloster Veßra
DESCRIPTION:Infos im ÜberblickAdvent Markt der Sinne\nKloster Veßra\nErleben Sie eine festliche Veranstaltung mit Ausstellern im Freilichtmuseum und den Innenräumen des Museums Kloster Veßra. Entdecken Sie eine Vielzahl von kunstvollen Handarbeiten\, festlichen Dekorationen\, kostbarer Töpfereiarbeit\, stilvoller Mode & Accessoires und kulinarischen Köstlichkeiten. \nSchlendern Sie durch die malerischen Freilichtanlagen und erleben Sie die besondere Atmosphäre des Museums Kloster Veßra\, während Sie von den sorgfältig ausgewählten Ausstellern inspiriert werden. Von einzigartigen Geschenkideen bis zu festlicher Dekoration – hier finden Sie alles\, um die Vorfreude auf die festliche Jahreszeit zu steigern. \nFür Ihr leibliches Wohl ist bestens gesorgt. Genießen Sie kulinarische Köstlichkeiten und erleben Sie die vorweihnachtliche Stimmung auf dem Adventsmarkt der Sinne im Hennebergischen Museum Kloster Veßra. \nTauchen Sie ein in eine Welt des Genusses\, der Gemütlichkeit und der festlichen Vorfreude. \nProgrammTicket-ShopPressemitteilungÖffnungszeiten\nFreitag: 16 bis 21 Uhr\nSamstag: 13 bis 22 Uhr\nSonntag: 11 bis 19 Uhr \nEinlass bis jeweils 1 Std. vor Ausstellungsende \nWegezoll\nFreitag: 5 Euro\npro Person \nSamstag & Sonntag: je 8 Euro\npro Person \nWochenendticket: 10 Euro\npro Person \nFreier Eintritt für Kinder unter 16 Jahren in Begleitung\nDer Museumseintritt ist am Samstag und Sonntag im Wegezoll enthalten.\n \nService\nBargeld-Service (EC-Lastschrift) \nHunde angeleint erlaubt \nParken\nAusgeschilderte Besucherparkplätze vor Ort.\nParkgebühren sind im Eintritt enthalten. \nStand: 09.01.2024\nÄnderungen vorbehalten!
URL:https://gartenkoenig.com/event/aventsmarkt_kloster_vessra/
LOCATION:Kloster Veßra\, Anger 35\, Kloster Veßra\, Thüringen\, 98660\, Deutschland
ATTACH;FMTTYPE=image/jpeg:https://gartenkoenig.com/wp-content/uploads/2020/11/Banner_Advent_Vessra_335x175_2024.jpg
END:VEVENT
BEGIN:VEVENT
DTSTART;VALUE=DATE:20241011
DTEND;VALUE=DATE:20241014
DTSTAMP:20260425T220737
CREATED:20190924T125901Z
LAST-MODIFIED:20240806T080339Z
UID:853-1728604800-1728863999@gartenkoenig.com
SUMMARY:Offroad- & Touristik-Tage Ohrdruf 2024 (OTTO Messe)
DESCRIPTION:Infos im ÜberblickOffroad- & Touristik-Tage\nBurg & Park Ohrdruf\nWillkommen zu den Offroad- & Touristik Tagen (OTTO-Messe) auf Burg & Park Ohrdruf – dem ultimativen Treffpunkt für Reise- und Outdoorfreunde im einzigartigen OTTO-Camp! \nErleben Sie eine außergewöhnliche Veranstaltung mit Ausstellern im Park der Burg Ohrdruf. Hier dreht sich alles um 4×4/Offroad\, Abenteuer-Urlaub und Outdoor-Erlebnisse. Verschiedene Anbieter präsentieren die faszinierende Geländewagen-Szene\, sei es zu Fuß\, mit dem Rad oder im eigenen Van – bei den Offroad- & Touristik Tagen gibt es für jeden Abenteuerliebhaber etwas zu entdecken. \nGenießen Sie informative Vorträge und praxisnahe Workshops\, die Ihnen wertvolle Einblicke in die Welt des Offroad-Abenteuers und des Outdoor-Tourismus bieten. Das OTTO-Camp\, geöffnet von Donnerstag bis Montag\, bietet die einzigartige Möglichkeit\, direkt an der OTTO-Messe zu campen und das Gemeinschaftsgefühl zu intensivieren. \nFür Ihr leibliches Wohl ist bestens gesorgt. Entspannen Sie sich\, genießen Sie kulinarische Köstlichkeiten und tauschen Sie Ihre Reiseerlebnisse mit Gleichgesinnten aus. \nFreuen Sie sich auf eine erlebnisreiche Zeit\, inspirierende Vorträge und eine Atmosphäre voller Abenteuerlust bei den Offroad- & Touristik Tagen auf Burg & Park Ohrdruf. \nTagesticketsTickets Campingzur OTTO-WebsiteÖffnungszeiten\nFreitag bis Sonntag\n10 bis 18 Uhr \nAb 17 Uhr kein Einlass mehr möglich. \nEintritt\n12 Euro\npro Person ab 16 Jahre \nErmäßigt: \n6 Euro\n(nur Schwerbeschädigte mit entsprechendem Nachweis) \nKostenfrei für Besucher unter 16 Jahre \nbargeldlose Bezahlung möglich \nService\nBargeld-Service (EC-Lastschrift) \nHunde angeleint erlaubt \nParken\nausgeschilderte kostenfreie Besucherparkplätze vor Ort \nStand: 09.01.2024\nÄnderungen vorbehalten!
URL:https://gartenkoenig.com/event/otto-messe/
LOCATION:Burg & Park Ohrdruf\, Gothaer Str. 30\, Ohrdruf\, Thüringen\, 99885
ATTACH;FMTTYPE=image/jpeg:https://gartenkoenig.com/wp-content/uploads/2020/11/Banner_OTTO_335x175_2024.jpg
END:VEVENT
BEGIN:VEVENT
DTSTART;VALUE=DATE:20240928
DTEND;VALUE=DATE:20240930
DTSTAMP:20260425T220737
CREATED:20190930T074743Z
LAST-MODIFIED:20240306T150709Z
UID:3740-1727481600-1727654399@gartenkoenig.com
SUMMARY:Herbst "AntikMarkt" Burg & Park Ohrdruf
DESCRIPTION:Infos im ÜberblickAntikMarkt\nBurg & Park Ohrdruf\nTreten Sie ein in eine Welt vergangener Epochen\, in der Geschichte und Ästhetik aufeinandertreffen. Unsere sorgfältig ausgewählten Antikhändler präsentieren eine faszinierende Vielfalt an antiken Möbeln\, Kunstwerken\, Schmuck und Kuriositäten. Tauchen Sie ein in die Vergangenheit und entdecken Sie einzigartige Stücke\, die Geschichten erzählen. \nAls besonderes Highlight bietet Walther Lehnertz\, besser bekannt als „Waldi“ aus Bares für Rares\, seine Expertenschätzung an. Bringen Sie Ihre Fundstücke mit und erfahren Sie mehr über ihre Geschichte und ihren Wert. \nDiese Veranstaltung ist eine wahre Fundgrube für Schnäppchenjäger\, Schatzsucher\, Vintage-Liebhaber und Raritätensammler. Egal\, ob Sie auf der Suche nach einem besonderen Schmuckstück\, einem antiken Möbelstück oder einem einzigartigen Kunstwerk sind – hier werden Sie fündig. \nFür das leibliche Wohl ist bestens gesorgt\, damit Sie Ihren Besuch auf dem „AntikMarkt“ in vollen Zügen genießen können. Ob Sie als Aufkäufer\, Ankäufer\, Käufer oder einfach als Schlenderer vorbeikommen – wir laden Sie herzlich ein\, diese besondere Atmosphäre auf Burg Ohrdruf zu erleben und freuen uns darauf\, gemeinsam mit Ihnen in die Welt der Antiquitäten einzutauchen! \nWenn Sie gerne selbst als Antik- oder Trödelhändler Teil des „AntikMarkt“ sein möchten\, können Sie sich Telefonisch unter 03681/452980 oder per E-Mail anmelden. \nAls Händler anmeldenÖffnungszeiten\nSamstag & Sonntag:\n9 bis 17 Uhr \nAb 16 Uhr kein Einlass mehr möglich. \nEintritt\n5 Euro\npro Person \nFreier Eintritt für Kinder unter 16 Jahren in Begleitung \nService\nHunde angeleint erlaubt \nParken\nausgeschilderte Besucherparkplätze vor Ort \nStand: 09.01.2024\nÄnderungen vorbehalten!
URL:https://gartenkoenig.com/event/antikmarkt-burg-park-ohrdruf/
LOCATION:Burg & Park Ohrdruf\, Gothaer Str. 30\, Ohrdruf\, Thüringen\, 99885
ATTACH;FMTTYPE=image/jpeg:https://gartenkoenig.com/wp-content/uploads/2019/09/Banner_AntikMarkt_Waldi_335x175_Sept_2024.jpg
END:VEVENT
BEGIN:VEVENT
DTSTART;VALUE=DATE:20240511
DTEND;VALUE=DATE:20240513
DTSTAMP:20260425T220737
CREATED:20230206T151312Z
LAST-MODIFIED:20240508T075728Z
UID:9543-1715385600-1715558399@gartenkoenig.com
SUMMARY:Erlebnismarkt "Rund ums Tier" Burg & Park Ohrdruf
DESCRIPTION:Infos im ÜberblickErlebnismarkt „Rund ums Tier“\nBurg & Park Ohrdruf\nTauchen Sie ein in die faszinierende Welt der Tiere und erleben Sie einen Markt\, der die Herzen von Tierfreunden höher schlagen lässt. Unsere Aussteller präsentieren ein breites Spektrum an Produkten für Ihre tierischen Begleiter – von hochwertigem Naturfutter über handgefertigte Leckerlis bis hin zu einzigartigem Spielzeug\, Accessoires und Dekoartikeln. \nDer Fokus liegt auf unvergesslichen Erlebnissen für die ganze Familie! Begegnen Sie Pferden\, Ziegen\, Schafen\, Lamas\, Wolfshunden und vielen weiteren faszinierenden Tieren hautnah. \nUnser spannendes Rahmenprogramm verspricht Abwechslung und Unterhaltung: \nAls besonderes Highlight begrüßen wir Stargast Uta Bresan mit einem mitreißenden Bühnenprogramm. \nFreuen Sie sich auf einen erlebnisreichen Tag voller Tierliebe\, Unterhaltung und informativer Begegnungen. \nRahmenprogrammPressemitteilungTicket-ShopÖffnungszeiten\nSamstag und Sonntag\n10 bis 18 Uhr \nAb 17 Uhr kein Einlass mehr möglich. \nEintritt\n→ zum Ticket-Shop \n10 Euro\npro Person \n8 Euro\nermäßigt (Schüler\, Studenten und Schwerbeschädigte mit entsprechendem Nachweis) \nFreier Eintritt für Kinder unter 16 Jahren in Begleitung \nbargeldlose Bezahlung möglich \nService\nBargeld-Service (EC-Lastschrift) \nKostenloser Depotservice\nzur Aufbewahrung gekaufter Waren \nHunde angeleint erlaubt \nParken\nausgeschilderte kostenfreie Besucherparkplätze vor Ort \nStand: 08.01.2024\nÄnderungen vorbehalten!
URL:https://gartenkoenig.com/event/erlebnismarkt-rund-ums-tier-ohrdruf/
LOCATION:Burg & Park Ohrdruf\, Gothaer Str. 30\, Ohrdruf\, Thüringen\, 99885
ATTACH;FMTTYPE=image/jpeg:https://gartenkoenig.com/wp-content/uploads/2020/11/Bauzaunbanner_Rund_ums_Tier_Ohrdruf_335x175cm_2024.jpg
END:VEVENT
END:VCALENDAR