BEGIN:VCALENDAR
VERSION:2.0
PRODID:-//Gartenkönig - ECPv6.8.3//NONSGML v1.0//EN
CALSCALE:GREGORIAN
METHOD:PUBLISH
X-WR-CALNAME:Gartenkönig
X-ORIGINAL-URL:https://gartenkoenig.com
X-WR-CALDESC:Veranstaltungen für Gartenkönig
REFRESH-INTERVAL;VALUE=DURATION:PT1H
X-Robots-Tag:noindex
X-PUBLISHED-TTL:PT1H
BEGIN:VTIMEZONE
TZID:Europe/Berlin
BEGIN:DAYLIGHT
TZOFFSETFROM:+0100
TZOFFSETTO:+0200
TZNAME:CEST
DTSTART:20260329T010000
END:DAYLIGHT
BEGIN:STANDARD
TZOFFSETFROM:+0200
TZOFFSETTO:+0100
TZNAME:CET
DTSTART:20261025T010000
END:STANDARD
TZID:UTC
BEGIN:STANDARD
TZOFFSETFROM:+0000
TZOFFSETTO:+0000
TZNAME:UTC
DTSTART:20260101T000000
END:STANDARD
END:VTIMEZONE
BEGIN:VEVENT
DTSTART;VALUE=DATE:20260501
DTEND;VALUE=DATE:20260504
DTSTAMP:20260421T141527
CREATED:20260129T095632Z
LAST-MODIFIED:20260421T094553Z
UID:11410-1777593600-1777852799@gartenkoenig.com
SUMMARY:Frühlings- & Gartenmarkt Burg Kranichfeld
DESCRIPTION:Infos im ÜberblickFrühlings- & Gartenmarkt \nNiederburg Kranichfeld\nErleben Sie den Frühling von seiner schönsten Seite beim Frühlings- & Gartenmarkt auf der Niederburg Kranichfeld. Hoch über dem sanften Flussbett der Ilm lädt die historische Niederburg mit ihrem einzigartigen Ambiente aus Planhof und Freilichtbühne zu einem genussvollen Markterlebnis für Jung und Alt ein. \nFreuen Sie sich auf eine abwechslungsreiche Auswahl liebevoll gestalteter Marktstände mit Pflanzen\, Gartenideen\, dekorativen Accessoires\, handgefertigten Unikaten\, stilvoller Mode und besonderen Schätzen für Haus und Hof. Traditionelles Handwerk trifft hier auf moderne Lebensart – eingebettet in das beeindruckende historische Flair der Zwei-Burgen-Stadt Kranichfeld. \nBeim Bummeln durch das idyllische Burggelände genießen Sie nicht nur inspirierende Entdeckungen\, sondern auch kulinarische Köstlichkeiten\, die zum Verweilen und Genießen einladen. Die besondere Atmosphäre der Niederburg macht den Markt zu einem Erlebnis für alle Sinne. \nLassen Sie sich von der Frühlingsstimmung verzaubern und genießen Sie einen entspannten Tag voller Inspiration\, Genuss und historischer Kulisse beim Frühlings- & Gartenmarkt auf der Niederburg Kranichfeld. \nProgrammPressemitteilungTicket-ShopÖffnungszeiten\nFreitag bis Sonntag\n10 bis 18 Uhr \nAb 17 Uhr kein Einlass mehr möglich. \nEintritt8 Euro\npro Person \n6 Euro\nermäßigt (Schüler\, Studenten und Schwerbeschädigte mit entsprechendem Nachweis) \n15 Euro\nDauerkarte (nur im Ticket-Shop erhältlich) \nFreier Eintritt für Kinder unter 16 Jahren in Begleitung \nbargeldlose Bezahlung möglichService\nBargeld-Service (EC-Lastschrift) \nKostenloser Depotservice\nzur Aufbewahrung gekaufter Waren \nHunde angeleint erlaubt \nParken\nausgeschilderte kostenfreie Besucherparkplätze im Ort\nShuttle-Service zur Eventlocation
URL:https://gartenkoenig.com/event/fruehlings-gartenmarkt-burg-kranichfeld/
LOCATION:Niederburg Kranichfeld\, Schloßgasse 18\, Kranichfeld\, Thüringen\, 99448
ATTACH;FMTTYPE=image/jpeg:https://gartenkoenig.com/wp-content/uploads/2026/01/Banner_Kranichfeld_335x175_2026.jpg
END:VEVENT
BEGIN:VEVENT
DTSTART;VALUE=DATE:20260502
DTEND;VALUE=DATE:20260504
DTSTAMP:20260421T141527
CREATED:20220420T130041Z
LAST-MODIFIED:20260225T100338Z
UID:8485-1777680000-1777852799@gartenkoenig.com
SUMMARY:Suhler Frühling
DESCRIPTION:Suhler Frühling\nSuhler Innenstadt\nFreuen Sie sich auf die „Garten- & Pflanzentage“ auf dem Platz der Deutschen Einheit\, wo Sie in die Welt der Gärten und Pflanzen eintauchen können. Unsere Aussteller präsentieren eine bunte Vielfalt an Blumen\, Sträuchern und Gartenaccessoires. Entdecken Sie inspirierende Ideen für Ihre grüne Oase und lassen Sie sich von Experten beraten. \nDie Suhler Innenstadt wird zur „Automeile“\, auf der Sie die neuesten Modelle und spannende Innovationen der Automobilbranche erleben können. Von Elektrofahrzeugen bis zu stilvollen Klassikern – hier ist für jeden Autofan etwas dabei. \nGenießen Sie zudem einen entspannten „Verkaufsoffenen Sonntag“ und nutzen Sie die Gelegenheit\, durch die Geschäfte zu bummeln und besondere Angebote zu entdecken. \nFür Ihr leibliches Wohl ist bestens gesorgt: Zahlreiche kulinarische Angebote laden dazu ein\, regionale Köstlichkeiten zu probieren und gemütlich zu verweilen. \nErleben Sie den „Suhler Frühling“ als ein Fest der Vielfalt\, bei dem Gartenliebhaber\, Autofans und Shoppingbegeisterte gleichermaßen auf ihre Kosten kommen. \nSuhler StadtmarketingÖffnungszeiten\nSamstag bis Sonntag\n10 bis 18 Uhr \nVerkaufsoffener Sonntag \nEintritt\nEintritt frei
URL:https://gartenkoenig.com/event/suhler-fruehling/
LOCATION:Suhl/Innenstadt\, Suhl\, Thüringen\, 98527\, Deutschland
CATEGORIES:Märkte
ATTACH;FMTTYPE=image/jpeg:https://gartenkoenig.com/wp-content/uploads/2022/04/Banner_SuhlerFruehling_335_175_2026.jpg
END:VEVENT
BEGIN:VEVENT
DTSTART;VALUE=DATE:20260514
DTEND;VALUE=DATE:20260518
DTSTAMP:20260421T141527
CREATED:20230124T132242Z
LAST-MODIFIED:20260407T135547Z
UID:9512-1778716800-1779062399@gartenkoenig.com
SUMMARY:"Kloster- & Gartenmarkt" Kloster Buch
DESCRIPTION:Infos im ÜberblickKloster- & Gartenmarkt\nKloster Buch\nErleben Sie in der historische Kulisse des ehemaligen sächsischen Zisterzienserklosters ein vielfältiges Angebot von Ausstellern\, die ihre Produkte für Haus\, Hof\, Garten und moderne Lebensart. Das Areal wird zum Schauplatz für inspirierende Entdeckungen\, insbesondere im Pflanzenbereich\, der mit zahlreichen Ideen für die Gestaltung von Gärten und grünen Oasen aufwartet. Neben Pflanzenvielfalt erwarten Sie auch reizvolle Dekorationen\, stilvolle Mode und besondere Accessoires. \nUnser Markt bietet eine reiche Auswahl an hochwertigen Produkten\, die von kreativen Köpfen und Experten sorgfältig ausgewählt wurden. Egal\, ob Sie auf der Suche nach praktischen Lösungen für Ihren Alltag oder nach dekorativen Highlights für Ihr Zuhause sind – hier werden Sie fündig. \nGenießen Sie nicht nur ein breites Einkaufsangebot\, sondern auch ein gemütliches Ambiente und kulinarische Köstlichkeiten. Für das leibliche Wohl ist bestens gesorgt\, sodass Sie Ihren Besuch in vollen Zügen genießen können. \nDer Kloster- & Gartenmarkt im Kloster Buch verspricht eine inspirierende Reise durch die Welt der Gartenkunst\, des Designs und der kreativen Lebensart. \nTicket-ShopÖffnungszeiten\nDonnerstag bis Sonntag: 10 bis 18 Uhr \nEinlass bis jeweils 1 Std. vor Ausstellungsende \nEintrittFreier Eintritt am 14.05. Christi Himmelfahrt! \n8\,00 Euro \npro Person \n6\,00 Euro\nermäßigt (Schüler\, Studenten und Schwerbeschädigte mit entsprechendem Nachweis) \n15 Euro\nDauerkarte (nur im Ticket-Shop erhältlich) \nFreier Eintritt für Kinder unter 16 Jahren in BegleitungService\nHunde angeleint erlaubt \nParken\nausgeschilderte Besucherparkplätze vor Ort \nStand: 13.01.2026\nÄnderungen vorbehalten!
URL:https://gartenkoenig.com/event/gartenmarkt_kloster_buch/
LOCATION:Kloster Buch\, Klosterbuch 1\, Leisnig\, Sachsen\, 04703\, Deutschland
ATTACH;FMTTYPE=image/jpeg:https://gartenkoenig.com/wp-content/uploads/2020/11/Banner_Kloster_Buch_335_175_2026.jpg
END:VEVENT
BEGIN:VEVENT
DTSTART;VALUE=DATE:20260516
DTEND;VALUE=DATE:20260518
DTSTAMP:20260421T141528
CREATED:20260204T095416Z
LAST-MODIFIED:20260416T132024Z
UID:11450-1778889600-1779062399@gartenkoenig.com
SUMMARY:Fränkische Kunst- & Rosentage Hollfeld
DESCRIPTION:Infos im ÜberblickFränkische Kunst- & Rosentage\nMarienplatz Hollfeld\nDie Fränkischen Kunst- & Rosentage zählen seit vielen Jahren zu den bekanntesten und beliebtesten Garten- und Kunstveranstaltungen in der Region. Ab diesem Jahr sind sie neu im Jahresplan von Gartenkönig\, der nun auch die Organisation der traditionsreichen Veranstaltung übernimmt. \nAustragungsort ist der Marienplatz in Hollfeld\, ein malerischer Platz im Herzen des romantischen Städtchens. Umgeben von historischen Fachwerkhäusern entsteht hier eine ganz besondere\, beinahe märchenhafte Atmosphäre\, die den perfekten Rahmen für Kunst\, Rosen und Gartenkultur bietet. \nIm Mittelpunkt der Veranstaltung steht ein vielfältiges Pflanzensortiment\, betreut von erfahrenen Fachleuten\, die ihr Wissen und ihre Leidenschaft gerne mit den Besuchern teilen. Ergänzt wird das Angebot durch ausgewählte Kunst- und Handwerksarbeiten sowie liebevoll gestaltete Stände\, die zum Entdecken und Verweilen einladen. \nFür das leibliche Wohl sorgt ein gemütlicher Cafébereich hinter dem Rathaus\, in dem selbstgebackene Kuchen und Torten angeboten werden. Weitere Aussteller finden sich in den geöffneten Durchgängen des Rathauses und des Wittauerhauses sowie in der angrenzenden Judengasse. \nDie Fränkischen Kunst- & Rosentage sind ein fester Bestandteil des regionalen Veranstaltungskalenders und ein jährlicher Treffpunkt für Gartenliebhaber\, Kunstfreunde und Genießer. In Verbindung mit dem besonderen Flair Hollfelds wird der Besuch zu einem rundum inspirierenden Erlebnis inmitten der Fränkischen Schweiz. \nShuttle-Service\nIn diesem Jahr wird ein Shuttle-Service angeboten. Das Busunternehmen Poserbus setzt an beiden Veranstaltungstagen während der gesamten Öffnungszeit einen Shuttlebus zwischen dem Parkplatz „Heroldsleithe“ und dem Eingang „Oberes Tor“ ein. Die Fahrgäste zahlen direkt im Bus: 3\,00 € für Erwachsene und 2\,00 € für Kinder unter 14 Jahren (Hin- und Rückfahrt). \nProgrammTicket-ShopPoserbusÖffnungszeiten\ntäglich: 10 bis 18 Uhr \nEine Stunde vor Marktende kein Einlass mehr möglich. \nEintritt\n8 Euro\npro Person \n6 Euro\nermäßigt (Schüler\, Studenten und Schwerbeschädigte mit entsprechendem Nachweis) \n15 Euro\nDauerkarte (nur im Ticket-Shop erhältlich) \nFreier Eintritt für Kinder unter 16 Jahren in Begleitung \nbargeldlose Bezahlung möglich \nService\nBargeld-Service (EC-Lastschrift) \nKostenloser Depotservice\nzur Aufbewahrung gekaufter Waren \nHunde angeleint erlaubt \nParken\nAusgeschilderte Besucherparkplätze in der Nähe des Veranstaltungsgeländes.\nParkgebühren sind im Eintrittspreis enthalten. \nÜber die gesamte Öffnungszeit wird ein Shuttlebus zwischen Parkplatz „Heroldsleithe“ und Eingang am „Oberen Tor“ eingesetzt.\nErwachsene: 3\,00 Euro (Hin- & Rückfahrt)\nKinder unter 14 Jahre: 2\,00 Euro (Hin- & Rückfahrt) \nStand: 13.01.2026\nÄnderungen vorbehalten!
URL:https://gartenkoenig.com/event/fraenkische-kunst-rosentage-hollfeld/
LOCATION:Marienplatz Hollfeld\, Marienplatz\, Hollfeld\, Bayern\, 96142
ATTACH;FMTTYPE=image/jpeg:https://gartenkoenig.com/wp-content/uploads/2026/02/Banner_Hollfeld_335_175_2026.jpg
END:VEVENT
BEGIN:VEVENT
DTSTART;VALUE=DATE:20260529
DTEND;VALUE=DATE:20260601
DTSTAMP:20260421T141528
CREATED:20190930T070151Z
LAST-MODIFIED:20260121T101940Z
UID:3656-1780012800-1780271999@gartenkoenig.com
SUMMARY:"Fränkisches Gartenfest" Wasserschloss Mitwitz
DESCRIPTION:Infos im ÜberblickFränkisches Gartenfest\nWasserschloss Mitwitz \nGenießen Sie eine inspirierende Veranstaltung\, bei der Aussteller im idyllischen Gelände des Wasserschlosses Mitwitz ihre Produkte für Haus\, Hof\, Garten und moderne Lebensart präsentieren. Vom üppigen Grün der Pflanzen über kunstvolle Dekorationen bis hin zu stilvoller Mode\, Accessoires und kulinarischen Köstlichkeiten erwartet Sie eine vielfältige Auswahl\, um Ihr Zuhause und Ihren Lebensstil zu bereichern. \nDas leibliche Wohl kommt dabei nicht zu kurz. Lassen Sie sich von kulinarischen Köstlichkeiten verwöhnen und genießen Sie die entspannte Atmosphäre im Schlosspark. \nEin weiteres Highlight erwartet Sie im Inneren des Wasserschlosses: Der 19. Mitwitzer Künstlermarkt präsentiert die Werke von talentierten Künstlerinnen und Künstlern des Vereins Regionale Kunstförderung Kronach e.V. Tauchen Sie ein in die faszinierende Welt der Kunst und entdecken Sie einzigartige Werke. \nFreuen Sie sich auf einen Tag voller Entdeckungen\, Genuss und kreativer Impulse beim Fränkischen Gartenfest im Wasserschloss Mitwitz. \nTicket-ShopÖffnungszeiten\nFreitag bis Sonntag\n10 bis 18 Uhr \nAb 17 Uhr kein Einlass mehr möglich. \nEintritt\n12 Euro\npro Person \n10 Euro\nermäßigt (Schüler\, Studenten und Schwerbeschädigte mit entsprechendem Nachweis) \n20 Euro\nDauerkarte (nur im Ticket-Shop erhältlich) \nFreier Eintritt für Kinder unter 16 Jahren in Begleitung \nbargeldlose Bezahlung möglich \nService\nBargeld-Service (EC-Lastschrift) \nKostenloser Depotservice\nzur Aufbewahrung gekaufter Waren \nHunde angeleint erlaubt \nParken\nausgeschilderte Besucherparkplätze vor Ort\n(Parkgebühren sind im Eintrittspreis enthalten) \nStand: 13.01.2026\nÄnderungen vorbehalten!
URL:https://gartenkoenig.com/event/fraenkisches-gartenfest-mitwitz/
LOCATION:Wasserschloss Mitwitz\, Unteres Schloss 5\, Mitwitz\, Bayern\, 96268\, Deutschland
ATTACH;FMTTYPE=image/jpeg:https://gartenkoenig.com/wp-content/uploads/2020/11/Banner_Mitwitz_340x173_2026.jpg
END:VEVENT
END:VCALENDAR