BEGIN:VCALENDAR
VERSION:2.0
PRODID:-//Gartenkönig - ECPv6.8.3//NONSGML v1.0//EN
CALSCALE:GREGORIAN
METHOD:PUBLISH
X-WR-CALNAME:Gartenkönig
X-ORIGINAL-URL:https://gartenkoenig.com
X-WR-CALDESC:Veranstaltungen für Gartenkönig
REFRESH-INTERVAL;VALUE=DURATION:PT1H
X-Robots-Tag:noindex
X-PUBLISHED-TTL:PT1H
BEGIN:VTIMEZONE
TZID:Europe/Berlin
BEGIN:DAYLIGHT
TZOFFSETFROM:+0100
TZOFFSETTO:+0200
TZNAME:CEST
DTSTART:20260329T010000
END:DAYLIGHT
BEGIN:STANDARD
TZOFFSETFROM:+0200
TZOFFSETTO:+0100
TZNAME:CET
DTSTART:20261025T010000
END:STANDARD
END:VTIMEZONE
BEGIN:VEVENT
DTSTART;VALUE=DATE:20260604
DTEND;VALUE=DATE:20260608
DTSTAMP:20260421T154504
CREATED:20200610T071507Z
LAST-MODIFIED:20260121T102113Z
UID:3704-1780531200-1780876799@gartenkoenig.com
SUMMARY:"Gartenmarkt" Kloster Veßra
DESCRIPTION:Infos im ÜberblickGartenmarkt \nKloster Veßra\nEntdecken Sie eine vielfältige Welt der Inspiration\, wenn Aussteller im Freilichtmuseum und den Innenräumen des Museums ihre Produkte für Haus\, Hof\, Garten und moderne Lebensart präsentieren. Von blühenden Pflanzen über kunstvolle Dekorationen bis hin zu stilvoller Mode\, Accessoires und kulinarischen Köstlichkeiten – der Gartenmarkt bietet eine breite Palette\, um Ihr Zuhause und Ihren Lebensstil zu verschönern. \nSchlendern Sie durch das Freilichtmuseum und die Ausstellungsräume\, lassen Sie sich von den vielseitigen Angeboten inspirieren und entdecken Sie besondere Schätze für Ihren Garten und Ihr Zuhause. Unsere Aussteller haben mit viel Liebe zum Detail ausgewählt\, um Ihnen ein besonderes Einkaufserlebnis zu bieten. \nFür Ihr leibliches Wohl ist bestens gesorgt. Genießen Sie kulinarische Köstlichkeiten und entspannen Sie in gemütlicher Atmosphäre. \n \nFreuen Sie sich auf einen Gartenmarkt\, der nicht nur Einkaufen\, sondern auch Genießen und Entspannen verspricht. \nTicket-ShopHennebergisches MuseumÖffnungszeiten\nDonnerstag bis Sonntag\n10 bis 18 Uhr \nAb 17 Uhr kein Einlass mehr möglich. \nEintritt\n12 Euro\npro Person (im Eintrittspreis ist auch der Museumseintritt und die gesetzl. MwSt. enthalten) \n10 Euro\nermäßigt (Schüler\, Studenten\, Schwerbeschädigte und Inhaber der VR-Bank Goldkarte mit entsprechendem Nachweis) \n20 Euro\nDauerkarte (nur im Ticket-Shop erhältlich) \nFreier Eintritt für Kinder unter 16 Jahren in Begleitung \nbargeldlose Bezahlung möglich \nService\nBargeld-Service (EC-Lastschrift) \nKostenloser Depotservice\nzur Aufbewahrung gekaufter Waren \nHunde angeleint erlaubt \nParken\nausgeschilderte Besucherparkplätze vor Ort \n\nStand: 13.01.2026\nÄnderungen vorbehalten!
URL:https://gartenkoenig.com/event/gartenmarkt-kloster-vessra/
LOCATION:Kloster Veßra\, Anger 35\, Kloster Veßra\, Thüringen\, 98660\, Deutschland
ATTACH;FMTTYPE=image/jpeg:https://gartenkoenig.com/wp-content/uploads/2020/11/Plane_Vessra_335x175_2026.jpg
END:VEVENT
BEGIN:VEVENT
DTSTART;VALUE=DATE:20260612
DTEND;VALUE=DATE:20260615
DTSTAMP:20260421T154504
CREATED:20250108T093111Z
LAST-MODIFIED:20260121T102248Z
UID:10858-1781222400-1781481599@gartenkoenig.com
SUMMARY:Schloss & Garten Tage Schloss Ponitz
DESCRIPTION:Infos im ÜberblickSchloss & Garten Tage\nSchloss Ponitz\nErleben Sie eine inspirierende Veranstaltung mit Ausstellern im historischen Schlossgelände. Freuen Sie sich auf eine vielfältige Auswahl an Händlern mit Pflanzen\, stilvollen Dekorationen\, Mode\, Accessoires und kulinarischen Köstlichkeiten. \nSchlendern Sie durch die malerische Kulisse des Schlosses und lassen Sie sich von kreativen Ideen und hochwertigen Produkten für Haus und Garten verzaubern. \nFür Ihr leibliches Wohl ist bestens gesorgt. Genießen Sie die besondere Atmosphäre der Haus & Garten Tage auf Schloss Ponitz und feiern Sie mit uns die Premiere dieses einzigartigen Events! \nTicket-ShopÖffnungszeiten\nFreitag bis Sonntag\n10 bis 18 Uhr \nAb 17 Uhr kein Einlass mehr möglich. \nEintritt\n8 Euro\npro Person \n6 Euro\nermäßigt (Schüler\, Studenten und Schwerbeschädigte mit entsprechendem Nachweis) \n15 Euro\nDauerkarte (nur im Ticket-Shop erhältlich) \nFreier Eintritt für Kinder unter 16 Jahren in Begleitung \nbargeldlose Bezahlung möglich \nService\nBargeld-Service (EC-Lastschrift) \nKostenloser Depotservice\nzur Aufbewahrung gekaufter Waren \nHunde angeleint erlaubt \nParken\nausgeschilderte Besucherparkplätze vor Ort\n(Parkgebühren sind im Eintrittspreis enthalten) \nStand: 13.01.2026\nÄnderungen vorbehalten!
URL:https://gartenkoenig.com/event/schloss-garten-tage-schloss-ponitz/
LOCATION:Schloss Ponitz\, Schlosshof 1\, Ponitz\, Thüringen\, 04639\, Germany
ATTACH;FMTTYPE=image/jpeg:https://gartenkoenig.com/wp-content/uploads/2020/11/Banner_HGT_Ponitz_340x173cm_2026.jpg
END:VEVENT
BEGIN:VEVENT
DTSTART;VALUE=DATE:20260620
DTEND;VALUE=DATE:20260622
DTSTAMP:20260421T154505
CREATED:20260204T105241Z
LAST-MODIFIED:20260224T125532Z
UID:11461-1781913600-1782086399@gartenkoenig.com
SUMMARY:Königsberger Rosentage Schloss Königsberg
DESCRIPTION:Infos im ÜberblickKönigsberger Rosentage\nSchloss Königsberg\nDie Königsberger Rosentage sind eine jährlich stattfindende Erlebnismesse und stehen für hochwertige Gartenkultur\, Pflanzenvielfalt und Lebensfreude. In der Region gelten sie seit Jahren als feste Größe für Qualität\, Inspiration und sinnliche Naturerlebnisse. Ab diesem Jahr wird die Organisation von Gartenkönig übernommen – die Veranstaltung ist damit neu im Programm. \nVeranstaltungsort ist das malerische Schloss Königsberg in Bayern. Die historische Burganlage mit alten Kastanien und weitläufigem Grün bietet eine einzigartige\, märchenhafte Kulisse und macht die Rosentage jedes Jahr im späten Frühling oder Frühsommer zu einem besonderen Treffpunkt für Garten- und Naturliebhaber. \nRenommierte Rosenzüchter\, Gärtnereien und Baumschulen präsentieren ein vielfältiges Pflanzensortiment und beraten fachkundig. Ergänzt wird das Angebot durch ausgewähltes Kunsthandwerk\, stilvolle Gartenaccessoires sowie kulinarische Spezialitäten. \nDie Königsberger Rosentage sind mehr als eine Messe – sie sind ein Fest der Sinne in historischem Ambiente. \nTicket-ShopÖffnungszeitenSamstag bis Sonntag\n10 bis 18 Uhr \nAb 17 Uhr kein Einlass mehr möglich.Eintritt\n12 Euro\npro Person \n10 Euro\nermäßigt (Schüler\, Studenten und Schwerbeschädigte) \n20 Euro\nDauerkarte (nur im Ticket-Shop erhältlich) \nDer Shuttle-Service ist im Eintrittspreis enthalten. \nFreier Eintritt für Kinder unter 16 Jahren in Begleitung \nbargeldlose Bezahlung möglich \nServiceBargeld-Service (EC-Lastschrift) \nKostenloser Depotservice\nzur Aufbewahrung gekaufter Waren \nHunde angeleint erlaubtParken\nausgeschilderte Besucherparkplätze im Ort \nShuttle-Service zur Veranstaltung alle 30 Minuten\nab 9:30 Uhr | bis 18:30 Uhr (zurück zum Parkplatz) \nShuttle-Service im Eintrittspreis enthalten \nStand: 13.01.2026\nÄnderungen vorbehalten!
URL:https://gartenkoenig.com/event/koenigsberger-rosentage-schloss-koenigsberg/
LOCATION:Schloss Königsberg\, Schloßberg 14\, Königsberg in Bayern\, Bayern\, 97486
ATTACH;FMTTYPE=image/jpeg:https://gartenkoenig.com/wp-content/uploads/2026/02/Banner_Koenigsberg_335_175_2026.jpg
END:VEVENT
BEGIN:VEVENT
DTSTART;VALUE=DATE:20260625
DTEND;VALUE=DATE:20260629
DTSTAMP:20260421T154505
CREATED:20260114T123100Z
LAST-MODIFIED:20260210T092335Z
UID:11327-1782345600-1782691199@gartenkoenig.com
SUMMARY:4. Kleine Gartenschau Oschatz 2026
DESCRIPTION:Infos im Überblick4. Kleine Gartenschau\nOschatz\nVom Donnerstag\, den 25. Juni bis Sonntag\, den 28. Juni erwartet Oschatz im Rahmen der 4. Kleinen Gartenschau wieder Gäste aus nah und fern. Auf dem Gelände des O-Schatz-Parkes\, des Wäschereiparks und am Skatepool wird ein buntes Programm für Groß und Klein geboten. Geöffnet ist die Gartenschau an allen vier Tagen von 10 bis 18 Uhr. Samstag wird sogar bis 24 Uhr auf zwei Bühnen gefeiert. Der Eintritt ist kostenfrei. \nDas Highlight der 4. Kleinen Gartenschau ist die Blumenschau im „das O“\, welches für 4 Tage\, wie zur erfolgreichen 4. Sächsischen Landesgartenschau Oschatz 2006\, wieder zur Blumenhalle wird. Hier zeigen Floristen der Region ihr Können. Eröffnet wird die Kleine Gartenschau inklusive der Blumenschau am Donnerstag\, dem 25.6. mit Uta Bresan. \nAlle Gäste\, die sich noch an die 4. Sächsische Landesgartenschau von 2006 erinnern\, werden Vertrautes aber auch viel Neues im O-Schatz-Park entdecken. Die Themen Garten\, Pflanzen\, Nachhaltigkeit stehen im Fokus der Kleinen Gartenschau. Es gibt Anregungen für Innen- und Außenbepflanzungen\, Fachvorträge und Workshops in der Blumenhalle. Die Oschatzer Vereine präsentieren sich am Samstag zum „Tag der Oschatzer“ auf dem Gelände und auf den zwei Bühnen. Ein Highlight sind die Auftritte von lokalen Bands wie „Die Unkomplzierten“. Weitere Programmhöhepunkte am Wochenende sind eine Greifvogelvorführung\, die Sensenmeisterschaft sowie das Maskottchentreffen. \nDas Grüne Klassenzimmer hält am Donnerstag und Freitag für Schulen\, Horte und Kindergärten spannende und lehrreiche Angebote bereit. \nViele weitere Programmpunkte\, eine große Händlermeile\, Oldtimer Ausfahrt\, Gottesdienst\, ein Chorkonzert und die regelmäßigen Fahrten mit der Schmalspurbahn „Wilder Robert“ runden das Angebot der 4. Kleinen Gartenschau ab. \nOschatz ErlebenÖffnungszeiten\nDonnerstag bis Sonntag\n10 bis 18 Uhr \nEintritt\nFrei \nService\nHunde angeleint erlaubt
URL:https://gartenkoenig.com/event/4-kleine-gartenschau-oschatz-2026/
LOCATION:Oschatz\, Freiherr-vom-Stein-Promenade 1C\, Oschatz\, 04758\, Deutschland
ATTACH;FMTTYPE=image/jpeg:https://gartenkoenig.com/wp-content/uploads/2026/01/Banner_Oschatz-2026.jpg
END:VEVENT
END:VCALENDAR